BEGIN:VCALENDAR
VERSION:2.0
PRODID:-//ChamberMaster//Event Calendar 2.0//EN
METHOD:PUBLISH
X-PUBLISHED-TTL:P3D
REFRESH-INTERVAL:P3D
CALSCALE:GREGORIAN
BEGIN:VEVENT
DTSTART:20170503T210000Z
DTEND:20170503T223000Z
X-MICROSOFT-CDO-ALLDAYEVENT:FALSE
SUMMARY:May 2017 Networking After Five
DESCRIPTION:Beachwood Chamber Networking After Five: Wednesday\, May 3\, 2017\n\nStart the month by joining us for our Annual Networking After Five event at:  Bar Louie - Legacy Village\n\n \n\nEnjoy ...\n\n\n	Light refreshments will be served.\n	Learn new networking tips and tricks\n	 Drop your business card for a chance to win a gift certificate\n	You won't want to miss your chance to win cash.  This will be a special drawing event.  ONLY Beachwood Chamber member company names that have participated at a networking after five event since May of 2016 (and the May 2017 event) will be placed in the hopper.  If your company name is pulled from the hopper and you are in attendance\, you win cash. If you are not there\, the current cash goes towards the BCC's scholarship fund and June will start over at $25.
X-ALT-DESC;FMTTYPE=text/html:<p><span style="color:#0033cc\;"><strong>Beachwood Chamber Networking After Five: Wednesday\, May 3\, 2017</strong></span></p>\n\n<p>Start the month by joining us for our Annual Networking After Five event<strong> </strong>at<strong>:&nbsp\; Bar Louie - Legacy Village</strong><br />\n&nbsp\;<br />\nEnjoy ...</p>\n\n<ul>\n	<li>Light refreshments will be served.</li>\n	<li>Learn new networking tips and tricks</li>\n	<li>&nbsp\;Drop your business card for a chance to win a gift certificate</li>\n	<li><span style="color:#FF0000\;">You won&#39\;t want to miss your chance to win<em> cash</em>.&nbsp\; This will be a special drawing event.&nbsp\; ONLY Beachwood Chamber member company names that have participated at a networking after five event since May of 2016 (and the May 2017 event) will be placed in the hopper.&nbsp\; If your company name is pulled from the hopper and you are in attendance\, you win cash. If you are not there\, the current cash goes towards the BCC&#39\;s scholarship fund and June will start over at $25.&nbsp\;</span></li>\n</ul>\n
LOCATION:Bar Louie Legacy Village 24337 Cedar Road Lyndhurst\, OH 44124
UID:e.368.6288
SEQUENCE:3
DTSTAMP:20260421T052642Z
URL:https://public.beachwood.org/events/details/may-2017-networking-after-five-6288
END:VEVENT

END:VCALENDAR
