BEGIN:VCALENDAR
VERSION:2.0
PRODID:-//ChamberMaster//Event Calendar 2.0//EN
METHOD:PUBLISH
X-PUBLISHED-TTL:P3D
REFRESH-INTERVAL:P3D
CALSCALE:GREGORIAN
BEGIN:VEVENT
DTSTART:20150315T180000Z
DTEND:20150315T200000Z
X-MICROSOFT-CDO-ALLDAYEVENT:FALSE
SUMMARY:Mary Beth Ions: Violin Up Close and Personal
DESCRIPTION:Mary Beth Ions: Violin Up Close and Personal\n\nBringing live music to people\, that's what I love to do\, that's my passion. It just can't be replicated with CDs or recordings. -- Marty Beth Ions\n\n\n\nPresented by the Beachwood Arts Council\n\n2015 ~ 2:00 PM\n\nat the Beachwood Community Center\n\n\n\n$10 per person suggested donation\n\nRefreshments to follow the concert
X-ALT-DESC;FMTTYPE=text/html:<strong>Mary Beth Ions: Violin Up Close and Personal</strong><br />\n<em>Bringing live music to people\, that&#39\;s what I love to do\, that&#39\;s my passion. It just can&#39\;t be replicated with CDs or recordings. -- Marty Beth Ions</em><br />\n<br />\nPresented by the Beachwood Arts Council<br />\n2015 ~ 2:00 PM<br />\nat the Beachwood Community Center<br />\n<br />\n$10 per person suggested donation<br />\nRefreshments to follow the concert<br />\n&nbsp\;
LOCATION:Beachwood Community Center 25225 Fairmount Blvd. Beachwood
UID:e.368.1305
SEQUENCE:3
DTSTAMP:20260419T173625Z
URL:https://public.beachwood.org/events/details/mary-beth-ions-violin-up-close-and-personal-03-15-2015-1305
END:VEVENT

END:VCALENDAR
