BEGIN:VCALENDAR
VERSION:2.0
PRODID:-//ChamberMaster//Event Calendar 2.0//EN
METHOD:PUBLISH
X-PUBLISHED-TTL:P3D
REFRESH-INTERVAL:P3D
CALSCALE:GREGORIAN
BEGIN:VEVENT
DTSTART:20160302T220000Z
DTEND:20160302T233000Z
X-MICROSOFT-CDO-ALLDAYEVENT:FALSE
SUMMARY:March Networking After Five 2016
DESCRIPTION:March Networking After Five \n\nOnline Registration Closed / Walk-ins welcome!\n\n\n\nJoin us for our monthly Networking After Five event\n\n\n\nLight refreshments will be served.\n\n\n\n* Learn new networking tips and tricks\n\n\n\n* Drop your business card for a chance to win a gift certificate\n\n\n\n* You won't want to miss your chance to win cash.  Every Beachwood Chamber member company name is placed in a hopper.  If your company name is pulled from the hopper and you are in attendance\, you win cash. If you were not there\, the current cash goes back into the pot and $25 more is added the next month!   It continues each month until there is a winner\, then we start again at $25.  The March drawing is now at $125\, but remember\, you MUST be there!
X-ALT-DESC;FMTTYPE=text/html:<p><span style="color:#0033cc\;"><strong>March Networking After Five </strong></span></p>\n\n<p><span style="color:#0033cc\;"><strong>Online Registration Closed / Walk-ins welcome!</strong></span><br />\n<br />\nJoin us for our monthly Networking After Five event<br />\n<br />\nLight refreshments will be served.<br />\n<br />\n* Learn new networking tips and tricks<br />\n<br />\n* Drop your business card for a chance to win a gift certificate<br />\n<br />\n* You won&#39\;t want to miss your chance to win<em> cash</em>.&nbsp\; Every Beachwood Chamber member company name is placed in a hopper.&nbsp\; If your company name is pulled from the hopper and you are in attendance\, you win cash. If you were not there\, the current cash goes back into the pot and $25 more is added the next month! &nbsp\; It continues each month until there is a winner\, then we start again at $25.&nbsp\; The March drawing is now at $125\, but remember\, you MUST be there!</p>\n
LOCATION:Valenti's Ristorante 3665 Richmond Road Beachwood\, OH 44122
UID:e.368.4821
SEQUENCE:3
DTSTAMP:20260420T115216Z
URL:https://public.beachwood.org/events/details/march-networking-after-five-2016-03-02-2016-4821
END:VEVENT

END:VCALENDAR
