BEGIN:VCALENDAR
VERSION:2.0
PRODID:-//ChamberMaster//Event Calendar 2.0//EN
METHOD:PUBLISH
X-PUBLISHED-TTL:P3D
REFRESH-INTERVAL:P3D
CALSCALE:GREGORIAN
BEGIN:VEVENT
DTSTART:20150303T220000Z
DTEND:20150303T233000Z
X-MICROSOFT-CDO-ALLDAYEVENT:FALSE
SUMMARY:March Networking After Five
DESCRIPTION:March Networking After Five\n\n\n\nJoin us for our monthly Networking After Five event hosted by Granite City Food & Brewery.\n\n\n\nLight refreshments will be served.
X-ALT-DESC;FMTTYPE=text/html:March Networking After Five<br />\n<br />\nJoin us for our monthly Networking After Five event hosted by Granite City Food &amp\; Brewery.<br />\n<br />\nLight refreshments will be served.
LOCATION:Granite City Food & Brewery Legacy Village 245196 Cedar Road
UID:e.368.1274
SEQUENCE:3
DTSTAMP:20260419T173236Z
URL:https://public.beachwood.org/events/details/march-networking-after-five-03-03-2015-1274
END:VEVENT

END:VCALENDAR
