BEGIN:VCALENDAR
VERSION:2.0
PRODID:-//ChamberMaster//Event Calendar 2.0//EN
METHOD:PUBLISH
X-PUBLISHED-TTL:P3D
REFRESH-INTERVAL:P3D
CALSCALE:GREGORIAN
BEGIN:VEVENT
DTSTART:20190306T220000Z
DTEND:20190306T233000Z
X-MICROSOFT-CDO-ALLDAYEVENT:FALSE
SUMMARY:March 2019 Networking After Five
DESCRIPTION:Join the Chamber this month for Networking After Five at Aligned Health Care.  Enjoy\n\n	Light Refreshments\n	Networking tips\n	Drawing for a gift certificate\n\nRemember to bring your business cards!
X-ALT-DESC;FMTTYPE=text/html:Join the Chamber this month for Networking After Five at Aligned Health Care.&nbsp\; Enjoy\n<ul>\n	<li>Light Refreshments</li>\n	<li>Networking tips</li>\n	<li>Drawing for a gift certificate</li>\n</ul>\nRemember to bring your business cards!
LOCATION:Aligned Health Care 3401 Enterprise Pkwy\, Suite 110 Beachwood 44122
UID:e.368.8021
SEQUENCE:3
DTSTAMP:20260420T082313Z
URL:https://public.beachwood.org/events/details/march-2019-networking-after-five-8021
END:VEVENT

END:VCALENDAR
