BEGIN:VCALENDAR
VERSION:2.0
PRODID:-//ChamberMaster//Event Calendar 2.0//EN
METHOD:PUBLISH
X-PUBLISHED-TTL:P3D
REFRESH-INTERVAL:P3D
CALSCALE:GREGORIAN
BEGIN:VEVENT
DTSTART:20170301T220000Z
DTEND:20170301T233000Z
X-MICROSOFT-CDO-ALLDAYEVENT:FALSE
SUMMARY:March 2017 Networking After Five
DESCRIPTION:Beachwood Chamber Networking After Five: Wednesday\, March 1\, 2017\n\nStart the month by joining us for our Annual Networking After Five event at Sky Zone Trampoline Park.\n\n\n\nThe food is being donated by Piccolo Italian Restaurant\n\n \n\nBring your workout gear and try out the many different trampoline attractions!\n\nIf you plan on participating in the attractions\, please bring a completed waiver to save time.  CLICK HERE FOR WAIVER\n\n\n\nEnjoy ...\n\n\n	Light refreshments will be served.\n	Learn new networking tips and tricks\n	 Drop your business card for a chance to win a gift certificate\n	You won't want to miss your chance to win cash.  Every Beachwood Chamber member company name is placed in a hopper.  If your company name is pulled from the hopper and you are in attendance\, you win cash. If you were not there\, the current cash goes back into the pot and $25 more is added the next month!   It continues each month until there is a winner\, then we start again at $25.  This month's drawing winner will receive $375
X-ALT-DESC;FMTTYPE=text/html:<p><span style="color:#0033cc\;"><strong>Beachwood Chamber Networking After Five: Wednesday\, March 1\, 2017</strong></span></p>\n\n<p>Start the month by joining us for our Annual Networking After Five event<strong> </strong>at <strong>Sky Zone Trampoline Park.<br />\n<br />\nThe food is being donated by <a href="http://www.piccolomayfield.com/home.php">Piccolo Italian Restaurant</a></strong><br />\n&nbsp\;<br />\n<strong><span style="color:#FF0000\;">Bring your workout gear and try out the many different trampoline attractions!</span></strong><br />\nIf you plan on participating in the attractions\, please bring a completed waiver to save time.&nbsp\; <a href="https://drive.google.com/file/d/0Byg7H3BKTx4icFJ1RkZielhzX0k/view">CLICK HERE FOR WAIVER</a><br />\n<br />\nEnjoy ...</p>\n\n<ul>\n	<li>Light refreshments will be served.</li>\n	<li>Learn new networking tips and tricks</li>\n	<li>&nbsp\;Drop your business card for a chance to win a gift certificate</li>\n	<li>You won&#39\;t want to miss your chance to win<em> cash</em>.&nbsp\; Every Beachwood Chamber member company name is placed in a hopper.&nbsp\; If your company name is pulled from the hopper and you are in attendance\, you win cash. If you were not there\, the current cash goes back into the pot and $25 more is added the next month! &nbsp\; It continues each month until there is a winner\, then we start again at $25.&nbsp\; This month&#39\;s drawing winner will receive $375</li>\n</ul>\n
LOCATION:Sky Zone Trampoline Park 750 Alpha Drive Highland Heights\, OH 44143
UID:e.368.6254
SEQUENCE:3
DTSTAMP:20260421T023531Z
URL:https://public.beachwood.org/events/details/march-2017-networking-after-five-6254
END:VEVENT

END:VCALENDAR
