BEGIN:VCALENDAR
VERSION:2.0
PRODID:-//ChamberMaster//Event Calendar 2.0//EN
METHOD:PUBLISH
X-PUBLISHED-TTL:P3D
REFRESH-INTERVAL:P3D
CALSCALE:GREGORIAN
BEGIN:VEVENT
DTSTART:20140629T123000Z
DTEND:20140629T180000Z
X-MICROSOFT-CDO-ALLDAYEVENT:FALSE
SUMMARY:Mandel JCC JRide Bike Event
DESCRIPTION:The Mandel JCC's 2nd annual JRide Bike Event will take riders on a 50\, 25 or 10 mile route through beautiful eastern Cuyahoga and Geauga counties. This event is for both the seasoned and casual rider\, as well as families. Open to the community. A rider lunch at The J follows the ride. Proceeds from the event help support the many wonderful programs The J provides to people in financial need.
X-ALT-DESC;FMTTYPE=text/html:The Mandel JCC&#39\;s 2nd annual JRide Bike Event will take riders on a 50\, 25 or 10 mile route through beautiful eastern Cuyahoga and Geauga counties. This event is for both the seasoned and casual rider\, as well as families. Open to the community. A rider lunch at The J follows the ride. Proceeds from the event help support the many wonderful programs The J provides to people in financial need.
LOCATION:Mandel JCC 26001 S. Woodland Road Beachwood\, OH 44122
UID:e.368.1132
SEQUENCE:3
DTSTAMP:20260420T060814Z
URL:https://public.beachwood.org/events/details/mandel-jcc-jride-bike-event-06-29-2014-1132
END:VEVENT

END:VCALENDAR
