BEGIN:VCALENDAR
VERSION:2.0
PRODID:-//ChamberMaster//Event Calendar 2.0//EN
METHOD:PUBLISH
X-PUBLISHED-TTL:P3D
REFRESH-INTERVAL:P3D
CALSCALE:GREGORIAN
BEGIN:VEVENT
DTSTART;VALUE=DATE:20080628
DTEND;VALUE=DATE:20080629
TRANSP:TRANSPARENT
X-MICROSOFT-CDO-ALLDAYEVENT:TRUE
SUMMARY:Make-A-Wish FoundationÂ® (Walk for Wishes)
DESCRIPTION:Join or support "Chagrin Valley Wellness Walkers!" at the 16th Annual Medical Mutual of Ohio  Walk For Wishes\, benefiting the Make-A-Wish Foundation  Saturday June 28th\, 2008 Cleveland Metroparks Zoo Help raise funds for local children like Rachel! Eight-year-old Rachel\, of Brunswick\, Ohio made some incredible memories on her Walt Disney wish and now she is the honorary wish child at this year's Walk! Thanks for participating and donating online. All the tools you need to register for the Walk\, send emails asking friends and family to join you or sponsor you\, are right here. First... Sign up as an individual\, or with your friends\, family or organization as a team. Second... Create and personalize your own web page Third... Attain your fundraising goal by sending personalized e-mails to your friends and family asking for their support. Finally... Have fun at the Walk For Wishes while helping to make local children's wishes come true.
X-ALT-DESC;FMTTYPE=text/html:<div>Join or support &quot\;Chagrin Valley Wellness Walkers!&quot\; at the 16th Annual Medical Mutual of Ohio&reg\; Walk For Wishes\, benefiting the Make-A-Wish Foundation&reg\; Saturday June 28th\, 2008 Cleveland Metroparks Zoo Help raise funds for local children like Rachel! Eight-year-old Rachel\, of Brunswick\, Ohio made some incredible memories on her Walt Disney wish and now she is the honorary wish child at this year&rsquo\;s Walk! Thanks for participating and donating online. All the tools you need to register for the Walk\, send emails asking friends and family to join you or sponsor you\, are right here. First... Sign up as an individual\, or with your friends\, family or organization as a team. Second... Create and personalize your own web page Third... Attain your fundraising goal by sending personalized e-mails to your friends and family asking for their support. Finally... Have fun at the Walk For Wishes while helping to make local children&rsquo\;s wishes come true.</div>
LOCATION:Cleveland Metro Parks Zoo 3900 Wildlife Way Cleveland\, OH 44109-3132
UID:e.368.34
SEQUENCE:3
DTSTAMP:20260424T071702Z
URL:https://public.beachwood.org/events/details/make-a-wish-foundation&#226;-walk-for-wishes-06-28-2008-34
END:VEVENT

END:VCALENDAR
