BEGIN:VCALENDAR
VERSION:2.0
PRODID:-//ChamberMaster//Event Calendar 2.0//EN
METHOD:PUBLISH
X-PUBLISHED-TTL:P3D
REFRESH-INTERVAL:P3D
CALSCALE:GREGORIAN
BEGIN:VEVENT
DTSTART:20140827T230000Z
DTEND:20140828T003000Z
X-MICROSOFT-CDO-ALLDAYEVENT:FALSE
SUMMARY:Louis Sockalexis: Baseball's First Indian
DESCRIPTION:How much do you know about Louis Sockalexis\, thought to be the inspiration for the name of our baseball team? Author Ed Rice will share his years of research on Sockalexis' significance as a baseball player\, the history of the team's nickname\, and provide insight on the Chief Wahoo debate.
X-ALT-DESC;FMTTYPE=text/html:How much do you know about Louis Sockalexis\, thought to be the inspiration for the name of our baseball team? Author Ed Rice will share his years of research on Sockalexis&#39\; significance as a baseball player\, the history of the team&#39\;s nickname\, and provide insight on the Chief Wahoo debate.
LOCATION:Beachwood Branch of Cuyahoga County Public Library 25501 Shaker Blvd Beachwood OH 44122
UID:e.368.1145
SEQUENCE:3
DTSTAMP:20260420T030651Z
URL:https://public.beachwood.org/events/details/louis-sockalexis-baseball-s-first-indian-08-27-2014-1145
END:VEVENT

END:VCALENDAR
