BEGIN:VCALENDAR
VERSION:2.0
PRODID:-//ChamberMaster//Event Calendar 2.0//EN
METHOD:PUBLISH
X-PUBLISHED-TTL:P3D
REFRESH-INTERVAL:P3D
CALSCALE:GREGORIAN
BEGIN:VEVENT
DTSTART:20140827T230000Z
DTEND:20140828T010000Z
X-MICROSOFT-CDO-ALLDAYEVENT:FALSE
SUMMARY:Loaves of Love - Mega Challah Bake
DESCRIPTION:You can help the Kosher Food Bank of Cleveland and go home with two (2) fresh loaves of sweet\, sesame-studded loaves at the Mega Challah Bake on Wednesday\, August 27th from 7-9 PM at Young Israel of Cleveland.  Doors open at 6:30 PM.\n\n\n\nTickets are $18 and available at Young Israel of Cleveland.  Or a registration form is available at tinyurl.com/MegaChallahBakeForm.\n\n\n\nAdhering to religious tradition\, the program is recommended for women.  A desert and musical reception will be provided.\n\n\n\nClick Here for the event flier.
X-ALT-DESC;FMTTYPE=text/html:<span style="color: rgb(0\, 0\, 0)\;">You can help the Kosher Food Bank of Cleveland and go home with two (2) fresh loaves of sweet\, sesame-studded loaves at the Mega Challah Bake on Wednesday\, August 27th from 7-9 PM at Young Israel of Cleveland.&nbsp\; Doors open at 6:30 PM.<br />\n<br />\nTickets are $18 and available at Young Israel of Cleveland.&nbsp\; Or a registration form is available at </span><span style="color: rgb(0\, 0\, 205)\;"><a href="http://tinyurl.com/MegaChallahBakeForm">tinyurl.com/MegaChallahBakeForm</a>.</span><br />\n<br />\n<span style="color: rgb(0\, 0\, 0)\;">Adhering to religious tradition\, the program is recommended for women.&nbsp\; A desert and musical reception will be provided.<br />\n<br />\n<a href="http://cloud.chambermaster.com/userfiles/UserFiles/chambers/368/File/CleMegaChallahBakeFlyer-RVSD.PDF">Click Here</a> for the event flier.</span><br />\n&nbsp\;
LOCATION:Young Israel of Greater Cleveland 2463 S. Green Road Beachwood
UID:e.368.1167
SEQUENCE:3
DTSTAMP:20260420T030702Z
URL:https://public.beachwood.org/events/details/loaves-of-love-mega-challah-bake-08-27-2014-1167
END:VEVENT

END:VCALENDAR
