BEGIN:VCALENDAR
VERSION:2.0
PRODID:-//ChamberMaster//Event Calendar 2.0//EN
METHOD:PUBLISH
X-PUBLISHED-TTL:P3D
REFRESH-INTERVAL:P3D
CALSCALE:GREGORIAN
BEGIN:VEVENT
DTSTART:20180604T220000Z
DTEND:20180604T233000Z
X-MICROSOFT-CDO-ALLDAYEVENT:FALSE
SUMMARY:Living Your Yes with RA
DESCRIPTION:Living Your Yes with RA is a personalized goal-setting event brought to you by the Arthritis Foundation. This free forum gives you the opportunity to learn ways that can help you say Yes more than No\, despite the challenges of living with rheumatoid arthritis (RA). You'll get expert advice from a local rheumatologist plus guidance on setting goals that can help you live life to the fullest. Let us help you manage your RA\, as well as communicate effectively with your own doctor.\n\n\n\nWHAT YOU'LL TAKE AWAY\n\n? How to set personal goals\, track your progress and achieve life-changing results\n\n? Tips to communicate better with your health care providers\n\n? Ways to get optimal treatments and outcomes\n\n? Tools and support to successfully manage RA and live life to its fullest
X-ALT-DESC;FMTTYPE=text/html:<span style="color:rgb(20\, 20\, 18)\; font-family:futura-pt\,sans-serif\; font-size:16px">Living Your Yes with RA is a personalized goal-setting event brought to you by the Arthritis Foundation.&nbsp\;This free forum gives you the opportunity to learn ways that can help you say Yes more than No\, despite the challenges of living with&nbsp\;</span><a href="http://www.arthritis.org/about-arthritis/types/rheumatoid-arthritis/" style="box-sizing: border-box\; color: rgb(0\, 173\, 80)\; text-decoration-line: none\; transition: all 0.2s ease-in-out\; font-family: futura-pt\, sans-serif\; font-size: 16px\;" target="_blank">rheumatoid arthritis</a><span style="color:rgb(20\, 20\, 18)\; font-family:futura-pt\,sans-serif\; font-size:16px">&nbsp\;(RA).&nbsp\;You&rsquo\;ll get expert advice from a local rheumatologist plus guidance on setting goals that can help you live life to the fullest.&nbsp\;Let us help you manage your RA\, as well as communicate effectively with your own doctor.</span><br />\n<br />\nWHAT YOU&rsquo\;LL TAKE AWAY<br />\n? How to set personal goals\, track your progress and achieve life-changing results<br />\n? Tips to communicate better with your health care providers<br />\n? Ways to get optimal treatments and outcomes<br />\n? Tools and support to successfully manage RA and live life to its fullest
LOCATION:Mustard Seed Market & Cafe - Pine View Room 6025 Kruse Drive - Solon\, Ohio 44139
UID:e.368.6494
SEQUENCE:3
DTSTAMP:20260420T202545Z
URL:https://public.beachwood.org/events/details/living-your-yes-with-ra-6494
END:VEVENT

END:VCALENDAR
