BEGIN:VCALENDAR
VERSION:2.0
PRODID:-//ChamberMaster//Event Calendar 2.0//EN
METHOD:PUBLISH
X-PUBLISHED-TTL:P3D
REFRESH-INTERVAL:P3D
CALSCALE:GREGORIAN
BEGIN:VEVENT
DTSTART:20191014T213000Z
DTEND:20191014T233000Z
X-MICROSOFT-CDO-ALLDAYEVENT:FALSE
SUMMARY:Live Yes! RA 2019
DESCRIPTION:Being diagnosed with rheumatoid arthritis is a life-changing experience. But there's a lot you can do to take control of your situation   and we're here to help you. This free event is an opportunity unlike any other you've had   you'll receive expert guidance from a local rheumatologist and learn to set and track your own health goals\, communicate more effectively with your doctor and other tips and tricks on how to live better with your RA. You will leave armed with the tools\, education and support to start saying Yes more than No!\n\nSpeaker:\n\nRochelle Rosian\, MD
X-ALT-DESC;FMTTYPE=text/html:<span style="color:rgb(0\, 0\, 0)\; font-family:didact gothic\,arial\,verdana\,helvetica\,sans-serif\; font-size:14.6667px">Being diagnosed with rheumatoid arthritis is a life-changing experience. But there&rsquo\;s a lot you can do to take control of your situation &ndash\; and we&rsquo\;re here to help you. This free event is an opportunity unlike any other you&rsquo\;ve had &ndash\; you&rsquo\;ll receive expert guidance from a local rheumatologist and learn to set and track your own health goals\, communicate more effectively with your doctor and other tips and tricks on how to live better with your RA. You will leave armed with the tools\, education and support to start saying Yes more than No!</span><br />\n<strong><span style="color:#96358E"><span style="font-family:century gothic\,sans-serif"><span style="font-size:16.0pt">Speaker:</span></span></span></strong><br />\n<span style="font-family:century gothic\,sans-serif"><span style="font-size:16.0pt">Rochelle Rosian\, MD</span></span><br />\n<br />\n&nbsp\;
LOCATION:Mustard Seed Market & Cafe 6025 Kruse Drive Solon\, Ohio 44139
UID:e.368.8167
SEQUENCE:3
DTSTAMP:20260420T145409Z
URL:https://public.beachwood.org/events/details/live-yes-ra-2019-8167
END:VEVENT

END:VCALENDAR
