BEGIN:VCALENDAR
VERSION:2.0
PRODID:-//ChamberMaster//Event Calendar 2.0//EN
METHOD:PUBLISH
X-PUBLISHED-TTL:P3D
REFRESH-INTERVAL:P3D
CALSCALE:GREGORIAN
BEGIN:VEVENT
DTSTART:20090503T210000Z
DTEND:20090504T000000Z
X-MICROSOFT-CDO-ALLDAYEVENT:FALSE
SUMMARY:''Live By Chocolate''
DESCRIPTION:"Live By Chocolate"May 3rd -- 5-8 PMMaltz Museum for Jewish Heritage Join the Cleveland Cord Blood Center to learn about the organization's work to treat patients with leukemia\, lymphoma\, and other life threatening diseases. Along with ...Touring the Maltz MuseumBidding on Silent Auction items from your favorite community businessesTasting chocolate\, cheese and wine (Kosher laws strictly followed)And meeting Cord Blood Transplant Survivors.Purchase tickets before April 30th to be entered into a drawing to win two round-trip plane tickets! Business casual attire
X-ALT-DESC;FMTTYPE=text/html:<div align="center"><font color="#663300" size="3"><strong>&quot\;Live By Chocolate&quot\;</strong></font></div><div align="center"><strong><font color="#663333">May 3rd -- 5-8 PM</font></strong></div><div align="center"><strong><font color="#663333">Maltz Museum for Jewish Heritage</font></strong></div><div align="center">&nbsp\;</div><div><font color="#000066">Join the Cleveland Cord Blood Center&nbsp\;to learn about the organization's work to treat patients with leukemia\, lymphoma\, and other life threatening diseases. Along with ...</font></div><ul><li><font color="#000066">Touring the Maltz Museum</font></li><li><font color="#000066">Bidding on Silent Auction items from your favorite community businesses</font></li><li><font color="#000066">Tasting chocolate\, cheese and wine (Kosher laws strictly followed)</font></li><li><font color="#000066">And meeting Cord Blood Transplant Survivors.</font></li></ul><div><font color="#000066">Purchase tickets before April 30th to be entered into a drawing to win two round-trip plane tickets!</font></div><div>&nbsp\;</div><div><font color="#000066">Business casual attire</font></div><div>&nbsp\;</div><div>&nbsp\;</div>
LOCATION:Maltz Museum2929 Richmond RoadBeachwood Ohio 44122
UID:e.368.184
SEQUENCE:3
DTSTAMP:20260423T181912Z
URL:https://public.beachwood.org/events/details/live-by-chocolate-05-03-2009-184
END:VEVENT

END:VCALENDAR
