BEGIN:VCALENDAR
VERSION:2.0
PRODID:-//ChamberMaster//Event Calendar 2.0//EN
METHOD:PUBLISH
X-PUBLISHED-TTL:P3D
REFRESH-INTERVAL:P3D
CALSCALE:GREGORIAN
BEGIN:VEVENT
DTSTART:20190822T213000Z
DTEND:20190822T230000Z
X-MICROSOFT-CDO-ALLDAYEVENT:FALSE
SUMMARY:LEARN ABOUT GOUT
DESCRIPTION:LEARN ABOUT GOUT\n\nat this free community education program\n\nPresented by rheumatologist \n\nDavid R. Mandel\, M.D.\n\nJoin us to learn about gout medications\, treatment options\, myths\, and the importance of doctor-patient communication.\n\n \n\nWednesday\, August 21\, 2019\n\n5:30 p.m.   7:00 p.m.\n\nHyatt Place at Legacy Village\n\n24665 Cedar Road\n\nLyndhurst\, OH  44124\n\n \n\nOR\n\n \n\nThursday\, August 22\, 2019\n\n5:30 p.m.   7:00 p.m.\n\nTriPoint Medical Center Physician Pavilion\n\nLubrizol Conference Room\n\n7590 Auburn Rd.\, Concord Twp.\, OH  44077\n\n \n\n \n\nRegister by August 16 at arthritis.org/LearnAboutGout\n\n or call 216-359-7152\n\nA light dinner will be provided.\n\n \n\n \n\nSupported by an educational grant from Horizon Therapeutics
X-ALT-DESC;FMTTYPE=text/html:<strong><span style="font-family:century gothic\,sans-serif"><span style="font-size:36.0pt">LEARN ABOUT GOUT</span></span></strong><br />\n<strong><span style="font-family:century gothic\,sans-serif"><span style="font-size:28.0pt">at this free community education program</span></span></strong><br />\n<strong><span style="color:#009443"><span style="font-family:century gothic\,sans-serif"><span style="font-size:20.0pt">Presented by rheumatologist </span></span></span></strong><br />\n<strong><span style="color:#009443"><span style="font-family:century gothic\,sans-serif"><span style="font-size:24.0pt">David R. Mandel\, M.D.</span></span></span></strong><br />\n<strong><span style="font-family:century gothic\,sans-serif"><span style="font-size:16.0pt">Join us to learn about gout medications\, treatment options\, myths\, and the importance of doctor-patient communication.</span></span></strong><br />\n&nbsp\;<br />\n<strong><span style="color:#00B050"><span style="font-family:century gothic\,sans-serif"><span style="font-size:14.0pt">Wednesday\, August 21\, 2019</span></span></span></strong><br />\n<strong><span style="color:#00B050"><span style="font-family:century gothic\,sans-serif"><span style="font-size:14.0pt">5:30 p.m. &ndash\; 7:00 p.m.</span></span></span></strong><br />\n<strong><span style="color:#00B050"><span style="font-family:century gothic\,sans-serif"><span style="font-size:14.0pt">Hyatt Place at Legacy Village</span></span></span></strong><br />\n<strong><span style="color:#00B050"><span style="font-family:century gothic\,sans-serif"><span style="font-size:14.0pt">24665 Cedar Road</span></span></span></strong><br />\n<strong><span style="color:#00B050"><span style="font-family:century gothic\,sans-serif"><span style="font-size:14.0pt">Lyndhurst\, OH&nbsp\; 44124</span></span></span></strong><br />\n&nbsp\;<br />\n<span style="font-family:century gothic\,sans-serif"><span style="font-size:14.0pt">OR</span></span><br />\n&nbsp\;<br />\n<strong><span style="color:#00B050"><span style="font-family:century gothic\,sans-serif"><span style="font-size:14.0pt">Thursday\, August 22\, 2019</span></span></span></strong><br />\n<strong><span style="color:#00B050"><span style="font-family:century gothic\,sans-serif"><span style="font-size:14.0pt">5:30 p.m. &ndash\; 7:00 p.m.</span></span></span></strong><br />\n<strong><span style="color:#00B050"><span style="font-family:century gothic\,sans-serif"><span style="font-size:14.0pt">TriPoint Medical Center Physician Pavilion</span></span></span></strong><br />\n<strong><span style="color:#00B050"><span style="font-family:century gothic\,sans-serif"><span style="font-size:14.0pt">Lubrizol Conference Room</span></span></span></strong><br />\n<strong><span style="color:#00B050"><span style="font-family:century gothic\,sans-serif"><span style="font-size:14.0pt">7590 Auburn Rd.\, Concord Twp.\, OH&nbsp\; 44077</span></span></span></strong><br />\n&nbsp\;<br />\n&nbsp\;<br />\n<strong><span style="font-family:century gothic\,sans-serif"><span style="font-size:16.0pt">Register by August 16 at </span></span></strong><a href="http://arthritis.org/LearnAboutGout"><strong><span style="color:#00B050"><span style="font-family:century gothic\,sans-serif"><span style="font-size:16.0pt">arthritis.org/LearnAboutGout</span></span></span></strong></a><br />\n<strong><span style="font-family:century gothic\,sans-serif"><span style="font-size:16.0pt">&nbsp\;or call 216-359-7152</span></span></strong><br />\n<span style="font-family:century gothic\,sans-serif"><span style="font-size:16.0pt">A light dinner will be provided.</span></span><br />\n&nbsp\;<br />\n&nbsp\;<br />\n<strong><span style="font-family:century gothic\,sans-serif"><span style="font-size:18.0pt">Supported by an educational grant from Horizon Therapeutics</span></span></strong>
LOCATION:Wednesday\, August 21\, 2019 5:30 p.m. 7:00 p.m. Hyatt Place at Legacy Village 24665 Cedar Road Lyndhurst\, OH 44124 OR Thursday\, August 22\, 2019 5:30 p.m. 7:00 p.m. TriPoint Medical Center Physician Pavilion Lubrizol Conference Room 7590 Auburn Rd.\, Concord Twp.\, OH 44077
UID:e.368.8165
SEQUENCE:3
DTSTAMP:20260420T124413Z
URL:https://public.beachwood.org/events/details/learn-about-gout-08-22-2019-8165
END:VEVENT

END:VCALENDAR
