BEGIN:VCALENDAR
VERSION:2.0
PRODID:-//ChamberMaster//Event Calendar 2.0//EN
METHOD:PUBLISH
X-PUBLISHED-TTL:P3D
REFRESH-INTERVAL:P3D
CALSCALE:GREGORIAN
BEGIN:VEVENT
DTSTART:20080912T200000Z
DTEND:20080913T010000Z
X-MICROSOFT-CDO-ALLDAYEVENT:FALSE
SUMMARY:Lavish Color Salon Grand Opening Celebration
DESCRIPTION:Please join us for our Grand Opening Celebration/ Open House on Friday\, September 12th\, 2008 from 4pm - 9pm\, with the official ribbon cutting ceremony to take place at 5:30pm. Come visit our fabulous new salon\, and enjoy an evening of appetizers\, drinks\, prizes and promotions! We will have many local and national sponsors for our charity raffle and auction\, with proceeds to benefit the American Cancer Society. Also\, we will be featuring the world renowned Rusk Master Team Members who will provide a lucky winner with a very special makeover on Saturday\, the 13th\, right here at our salon! We look forward to seeing you on the 12th! Please feel free to bring a friend\, to help us celebrate this special event! Sincerely\, Tracey Watts Cirino & Associates Lavish Color Salon 4854 Richmond Rd. tracey@lavishcolorsalon.com 216.378.9870
X-ALT-DESC;FMTTYPE=text/html:<div>Please join us for our <strong>Grand Opening Celebration/ Open House</strong> on <strong>Friday\, September 12th\, 2008</strong> from <strong>4pm - 9pm</strong>\, with the official ribbon cutting ceremony to take place at 5:30pm. Come visit our fabulous new salon\, and enjoy an evening of appetizers\, drinks\, prizes and promotions! We will have many local and national sponsors for our charity raffle and auction\, with proceeds to benefit the American Cancer Society. Also\, we will be featuring the world renowned Rusk Master Team Members who will provide a lucky winner with a very special makeover on Saturday\, the 13th\, right here at our salon! We look forward to seeing you on the 12th! Please feel free to bring a friend\, to help us celebrate this special event! Sincerely\, Tracey Watts Cirino &amp\; Associates Lavish Color Salon 4854 Richmond Rd. tracey@lavishcolorsalon.com 216.378.9870</div>
LOCATION:Lavish Color Salon4854 Richmond Rd.
UID:e.368.78
SEQUENCE:3
DTSTAMP:20260424T032650Z
URL:https://public.beachwood.org/events/details/lavish-color-salon-grand-opening-celebration-09-12-2008-78
END:VEVENT

END:VCALENDAR
