BEGIN:VCALENDAR
VERSION:2.0
PRODID:-//ChamberMaster//Event Calendar 2.0//EN
METHOD:PUBLISH
X-PUBLISHED-TTL:P3D
REFRESH-INTERVAL:P3D
CALSCALE:GREGORIAN
BEGIN:VEVENT
DTSTART:20140810T171500Z
DTEND:20140810T204500Z
X-MICROSOFT-CDO-ALLDAYEVENT:FALSE
SUMMARY:KIller Heat: Cool Off With Hot Mysteries- With Special Guest Daniel Stashower
DESCRIPTION:Join the Northeast Ohio Chapter of Sisters in Crime for an afternoon of panels dedicated to the mystery genre. Panelists include special guest author Daniel Stashower\; scholar of the mystery genre Dr. Katherine Clark\; local authors Shelley Costa\, Amanda Flower\, Kylie Logan\, Mara Purnhagen\, Sam Thomas and Jane Turzillo\; librarian Cari Dubiel\; and freelance editor Jennifer Fisher. Refreshments\, books signings and a mystery trivia contest!\n\n\n\n1:15\n\nWelcome\n\n\n\n1:20-2:00 p.m.\n\nChoose one:\n\na) Interview with Daniel Stashower (Katherine Clark\, interviewer)\n\nb) How to Write a Killer Query Letter (Mara Purnhagen) -- Separate preregistration for this craft workshop is required. Please call 216-749-9309 to preregister.\n\n\n\n2:00-2:40 p.m.\n\nPublishing Confidential: An Insider's View on the State of Mystery Publishing (Jennifer Fisher\, Jim Huang -- Kylie Logan\, Moderator). What are the current issues in mystery publishing? What are editors and booksellers looking for?\n\n\n\n2:40-3:00\n\nBreak\n\n\n\n3:00-3:40 p.m.\n\nThe Faces of Mystery (Daniel Stashower\, Kylie Logan\, Shelley Costa\, Amanda Flower\, Sam Thomas\, Mara Purnhagen\, Katherine Clark\, Jane Turzillo -- Cari Dubiel\, Moderator). Our authors discuss the kinds of mysteries they write\, recommend favorite titles in crime writing\, and answer your questions.\n\n\n\n3:40-4:20 p.m.\n\nMystery Trivia Contest (Daniel Stashower\, Margaret Reardon). So you think you know your mysteries? You can win a prize!\n\n\n\n4:20-4:45 p.m.\n\nSignings (All)
X-ALT-DESC;FMTTYPE=text/html:Join the Northeast Ohio Chapter of Sisters in Crime for an afternoon of panels dedicated to the mystery genre. Panelists include special guest author Daniel Stashower\; scholar of the mystery genre Dr. Katherine Clark\; local authors Shelley Costa\, Amanda Flower\, Kylie Logan\, Mara Purnhagen\, Sam Thomas and Jane Turzillo\; librarian Cari Dubiel\; and freelance editor Jennifer Fisher. Refreshments\, books signings and a mystery trivia contest!<br />\n<br />\n1:15<br />\nWelcome<br />\n<br />\n1:20-2:00 p.m.<br />\nChoose one:<br />\na) Interview with Daniel Stashower (Katherine Clark\, interviewer)<br />\nb) How to Write a Killer Query Letter (Mara Purnhagen) -- Separate preregistration for this craft workshop is required. Please call 216-749-9309 to preregister.<br />\n<br />\n2:00-2:40 p.m.<br />\nPublishing Confidential: An Insider&#39\;s View on the State of Mystery Publishing (Jennifer Fisher\, Jim Huang -- Kylie Logan\, Moderator). What are the current issues in mystery publishing? What are editors and booksellers looking for?<br />\n<br />\n2:40-3:00<br />\nBreak<br />\n<br />\n3:00-3:40 p.m.<br />\nThe Faces of Mystery (Daniel Stashower\, Kylie Logan\, Shelley Costa\, Amanda Flower\, Sam Thomas\, Mara Purnhagen\, Katherine Clark\, Jane Turzillo -- Cari Dubiel\, Moderator). Our authors discuss the kinds of mysteries they write\, recommend favorite titles in crime writing\, and answer your questions.<br />\n<br />\n3:40-4:20 p.m.<br />\nMystery Trivia Contest (Daniel Stashower\, Margaret Reardon). So you think you know your mysteries? You can win a prize!<br />\n<br />\n4:20-4:45 p.m.<br />\nSignings (All)
LOCATION:Beachwood Branch of Cuyahoga County Public Library 25501 Shaker Blvd Beachwood OH 44122
UID:e.368.1142
SEQUENCE:3
DTSTAMP:20260420T044012Z
URL:https://public.beachwood.org/events/details/killer-heat-cool-off-with-hot-mysteries-with-special-guest-daniel-stashower-08-10-2014-1142
END:VEVENT

END:VCALENDAR
