BEGIN:VCALENDAR
VERSION:2.0
PRODID:-//ChamberMaster//Event Calendar 2.0//EN
METHOD:PUBLISH
X-PUBLISHED-TTL:P3D
REFRESH-INTERVAL:P3D
CALSCALE:GREGORIAN
BEGIN:VEVENT
DTSTART:20170211T180000Z
DTEND:20170211T190000Z
X-MICROSOFT-CDO-ALLDAYEVENT:FALSE
SUMMARY:Kids Valentine's day Craft Workshop
DESCRIPTION:Beachwood Arts Council presents ...\n\n\n\nKids Valentine's Day Craft Workshop\n\n\n\nCreate a Valentine's Day heart pin with Beachwood art teachers Chunny Hahn and Heather Grano.  Grades K-7 welcome.
X-ALT-DESC;FMTTYPE=text/html:Beachwood Arts Council presents ...<br />\n<br />\n<strong>Kids Valentine&#39\;s Day Craft Workshop</strong><br />\n<br />\nCreate a Valentine&#39\;s Day heart pin with Beachwood art teachers Chunny Hahn and Heather Grano.&nbsp\; Grades K-7 welcome.
LOCATION:Beachwood Community Center 25225 Fairmount Blvd.
UID:e.368.6277
SEQUENCE:3
DTSTAMP:20260421T011855Z
URL:https://public.beachwood.org/events/details/kids-valentine-s-day-craft-workshop-6277
END:VEVENT

END:VCALENDAR
