BEGIN:VCALENDAR
VERSION:2.0
PRODID:-//ChamberMaster//Event Calendar 2.0//EN
METHOD:PUBLISH
X-PUBLISHED-TTL:P3D
REFRESH-INTERVAL:P3D
CALSCALE:GREGORIAN
BEGIN:VEVENT
DTSTART:20170506T180000Z
DTEND:20170506T190000Z
X-MICROSOFT-CDO-ALLDAYEVENT:FALSE
SUMMARY:Kids Mother's Day Art Workshop
DESCRIPTION:Join our own BAC art teacher\, Carolyn Frankel-Krieger\, for a special afternoon where kids will create a surprise gift for mom or a special friend.\n\n\n\nDrop your children off for a fun\, one-hour art workshop.\n\n\n\nFor ages 6-10.
X-ALT-DESC;FMTTYPE=text/html:Join our own BAC art teacher\, Carolyn Frankel-Krieger\, for a special afternoon where kids will create a surprise gift for mom or a special friend.<br />\n<br />\nDrop your children off for a fun\, one-hour art workshop.<br />\n<br />\nFor ages 6-10.
LOCATION:Beachwood Community Center 25225 Fairmount Blvd.
UID:e.368.6292
SEQUENCE:3
DTSTAMP:20260421T052957Z
URL:https://public.beachwood.org/events/details/kids-mother-s-day-art-workshop-6292
END:VEVENT

END:VCALENDAR
