BEGIN:VCALENDAR
VERSION:2.0
PRODID:-//ChamberMaster//Event Calendar 2.0//EN
METHOD:PUBLISH
X-PUBLISHED-TTL:P3D
REFRESH-INTERVAL:P3D
CALSCALE:GREGORIAN
BEGIN:VEVENT
DTSTART;VALUE=DATE:20170223
DTEND;VALUE=DATE:20170224
TRANSP:TRANSPARENT
X-MICROSOFT-CDO-ALLDAYEVENT:TRUE
SUMMARY:Kickoff Party for The Longest Day Event
DESCRIPTION:Help us Kick Off The Longest Day 2017!  Join us as we gather new and past teams for the Alzheimer's Association's second signature event\, The Longest Day\, to celebrate last year's success and kick off this year's events! Heavy appetizers will be served. Happy hour drinks will be available for purchase.   Learn more & RSVP to Jessica Gretz\, jgretz@alz.org or (216) 342-5606
X-ALT-DESC;FMTTYPE=text/html:<div><strong>Help us&nbsp\;Kick&nbsp\;Off&nbsp\;The Longest Day 2017! &nbsp\;</strong><span style="font-size:13px">Join us as we gather new and past teams for the Alzheimer&rsquo\;s Association&rsquo\;s second signature event\, The Longest Day\, to celebrate last year&rsquo\;s success and&nbsp\;kick&nbsp\;off&nbsp\;this year&rsquo\;s events! Heavy appetizers will be served. Happy hour drinks will be available for purchase. &nbsp\;&nbsp\;</span><span style="font-size:13px">Learn more &amp\;&nbsp\;</span><strong>RSVP</strong><span style="font-size:13px">&nbsp\;to Jessica Gretz\,&nbsp\;</span><a href="mailto:jgretz@alz.org" style="font-size: 13px\; color: rgb(17\, 85\, 204)\;" target="_blank">jgretz@alz.org</a><span style="font-size:13px">&nbsp\;or&nbsp\;</span><a href="tel:(216)%20342-5606" style="font-size: 13px\; color: rgb(17\, 85\, 204)\;" target="_blank">(216) 342-5606</a></div>\n
LOCATION:Market Garden Brewery 1947 West 25th Street Cleveland 44113
UID:e.368.6286
SEQUENCE:3
DTSTAMP:20260421T011920Z
URL:https://public.beachwood.org/events/details/kickoff-party-for-the-longest-day-event-6286
END:VEVENT

END:VCALENDAR
