BEGIN:VCALENDAR
VERSION:2.0
PRODID:-//ChamberMaster//Event Calendar 2.0//EN
METHOD:PUBLISH
X-PUBLISHED-TTL:P3D
REFRESH-INTERVAL:P3D
CALSCALE:GREGORIAN
BEGIN:VEVENT
DTSTART:20141119T000000Z
DTEND:20141119T013000Z
X-MICROSOFT-CDO-ALLDAYEVENT:FALSE
SUMMARY:Keep Calm and Read On
DESCRIPTION:Come to the Beachwood Library for a program with Random House representative Lara Oliver. Get the  "inside scoop" on hot new Fall and Winter titles. Advanced reading copies of many featured books will be given away\, and you'll get a free "Keep Calm and Read On" tote bag!  Space is limited so register today at www.cuyahogalibrary.org or call 216-831-6868.
X-ALT-DESC;FMTTYPE=text/html:Come to the Beachwood Library for a program with Random House representative Lara Oliver. Get the&nbsp\; &ldquo\;inside scoop&rdquo\; on hot new Fall and Winter titles. Advanced reading copies of many featured books will be given away\, and you&rsquo\;ll get a free &ldquo\;Keep Calm and Read On&rdquo\; tote bag!&nbsp\; Space is limited so register today at www.cuyahogalibrary.org or call 216-831-6868.
LOCATION:Beachwood Branch of Cuyahoga County Public Library 25501 Shaker Blvd Beachwood OH 44122
UID:e.368.1193
SEQUENCE:3
DTSTAMP:20260419T225016Z
URL:https://public.beachwood.org/events/details/keep-calm-and-read-on-11-18-2014-1193
END:VEVENT

END:VCALENDAR
