BEGIN:VCALENDAR
VERSION:2.0
PRODID:-//ChamberMaster//Event Calendar 2.0//EN
METHOD:PUBLISH
X-PUBLISHED-TTL:P3D
REFRESH-INTERVAL:P3D
CALSCALE:GREGORIAN
BEGIN:VEVENT
DTSTART:20140603T210000Z
DTEND:20140603T223000Z
X-MICROSOFT-CDO-ALLDAYEVENT:FALSE
SUMMARY:June Networking After Five
DESCRIPTION:Chamber June Networking After Five Event\n\n\n\n REGISTRY ONLINE CLOSED:\n\nWalk-In's Welcome!\n\n\n\nJoin us for light refreshments and an informal networking event at the Perrino Custom Builders.\n\n\n\n\n\nClick here to see some of their beautiful homes\, and learn more about Perrino Custom Builders.
X-ALT-DESC;FMTTYPE=text/html:<p>Chamber June Networking After Five Event<br />\n<br />\n&nbsp\;<strong><font color="#0000cd" size="3">REGISTRY ONLINE CLOSED:<br />\nWalk-In&#39\;s Welcome!</font><br />\n<br />\n<span style="font-family:verdana\,sans-serif\;"><span style="font-size:9.0pt\;">Join us for light refreshments and an informal networking event at the Perrino Custom Builders.</span></span></strong><br />\n<br />\n<br />\n<a href="http://www.perrinocustomhomes.com/">Click here</a> to see some of their beautiful homes\, and learn more about Perrino Custom Builders.</p>\n
LOCATION:Perrino Custom Builders 6163 Mayfield Road Mayfield Heights\, OH 44124
UID:e.368.1118
SEQUENCE:3
DTSTAMP:20260420T060441Z
URL:https://public.beachwood.org/events/details/june-networking-after-five-06-03-2014-1118
END:VEVENT

END:VCALENDAR
