BEGIN:VCALENDAR
VERSION:2.0
PRODID:-//ChamberMaster//Event Calendar 2.0//EN
METHOD:PUBLISH
X-PUBLISHED-TTL:P3D
REFRESH-INTERVAL:P3D
CALSCALE:GREGORIAN
BEGIN:VEVENT
DTSTART:20190613T154500Z
DTEND:20190613T170000Z
X-MICROSOFT-CDO-ALLDAYEVENT:FALSE
SUMMARY:June 2019 Beachwood Women's Connection
DESCRIPTION:Registration Closed!  We have reached location capacity.\n\n\n\nJoin with Beachwood Women's Connection at Sipt and enjoy samples of their fresh and healthy menu offered by owner\, Carina Grenier!  Sipt has developed a line of all-natural\, hand-pressed and poured fruit & vegetable juices\, grab-and-go foods\, and wellness-based products that will have you on the path to improved health and happiness. All drinks are made from locally-sourced ingredients which are plant-based and vegan-friendly as well as delicious!\n\n\n\nOur speaker will be Dr. Nancy Miklowski\, naturopathic doctor and owner of Cleveland Natural Health.  She will speak on "Reducing Our Body Burden\," helping us identify the most common causes of toxin/contaminant exposure.  She will touch on certain liver-friendly foods and teach us easy tips to gently detox daily. Dr. Miklowski graduated from the National University of Natural Medicine in Portland\, OR.
X-ALT-DESC;FMTTYPE=text/html:<strong>Registration Closed!&nbsp\; We have reached location capacity.</strong><br />\n<br />\nJoin with Beachwood Women&#39\;s Connection at Sipt and enjoy samples of their fresh and healthy menu offered by owner\, Carina Grenier!&nbsp\; Sipt has developed a line of all-natural\, hand-pressed and poured fruit &amp\; vegetable juices\, grab-and-go foods\, and wellness-based products that will have you on the path to improved health and happiness. All drinks are made from locally-sourced ingredients which are plant-based and vegan-friendly as well as delicious!<br />\n<br />\nOur speaker will be <strong>Dr. Nancy Miklowski\,</strong> naturopathic doctor and owner of Cleveland Natural Health.&nbsp\; She will speak on &quot\;Reducing Our Body Burden\,&quot\; helping us identify the most common causes of toxin/contaminant exposure.&nbsp\; She will touch on certain liver-friendly foods and teach us easy tips to gently detox daily. Dr. Miklowski graduated from the National University of Natural Medicine in Portland\, OR.
LOCATION:Sipt 3365 Richmond Road Beachwood
UID:e.368.8084
SEQUENCE:3
DTSTAMP:20260420T095628Z
URL:https://public.beachwood.org/events/details/june-2019-beachwood-women-s-connection-8084
END:VEVENT

END:VCALENDAR
