BEGIN:VCALENDAR
VERSION:2.0
PRODID:-//ChamberMaster//Event Calendar 2.0//EN
METHOD:PUBLISH
X-PUBLISHED-TTL:P3D
REFRESH-INTERVAL:P3D
CALSCALE:GREGORIAN
BEGIN:VEVENT
DTSTART:20140701T210000Z
DTEND:20140701T223000Z
X-MICROSOFT-CDO-ALLDAYEVENT:FALSE
SUMMARY:July Networking After Five - Summer Salsa
DESCRIPTION:Chamber July Networking After Five Event\n\n\n\n\n\nJoin us for light refreshments and an informal networking event at the Fred Astaire Dance Studios of Willoughby\, while we learn about the summer salsa by watching the professionals of Fred Astaire Dance Studio.\n\n\n\n\n\nClick here to see some of their upcoming events\, and learn more about Fred Astaire Dance Studio.
X-ALT-DESC;FMTTYPE=text/html:Chamber July Networking After Five Event<br />\n<br />\n<br />\n<strong><span style="font-family:verdana\,sans-serif\;"><span style="font-size:9.0pt\;">Join us for light refreshments and an informal networking event at the Fred Astaire Dance Studios of Willoughby\, while we learn about the summer salsa by watching the professionals of Fred Astaire Dance Studio.</span></span></strong><br />\n<br />\n<br />\n<a href="http://www.dancecleveland.com">Click here</a> to see some of their upcoming events\, and learn more about Fred Astaire Dance Studio.
LOCATION:Fred Astaire Dance Studio 34601 Ridge Road\, #9 Willoughby\, OH 44094
UID:e.368.1119
SEQUENCE:3
DTSTAMP:20260420T060550Z
URL:https://public.beachwood.org/events/details/july-networking-after-five-summer-salsa-07-01-2014-1119
END:VEVENT

END:VCALENDAR
