BEGIN:VCALENDAR
VERSION:2.0
PRODID:-//ChamberMaster//Event Calendar 2.0//EN
METHOD:PUBLISH
X-PUBLISHED-TTL:P3D
REFRESH-INTERVAL:P3D
CALSCALE:GREGORIAN
BEGIN:VEVENT
DTSTART:20150701T210000Z
DTEND:20150701T223000Z
X-MICROSOFT-CDO-ALLDAYEVENT:FALSE
SUMMARY:July Networking After Five
DESCRIPTION:REGISTRATION CLOSED - WALK - INS WELCOME!\n\n\n\nJuly Networking After Five\n\n\n\nJoin us for our monthly Networking After Five event\n\n\n\nLight refreshments will be served.
X-ALT-DESC;FMTTYPE=text/html:REGISTRATION CLOSED - WALK - INS WELCOME!<br />\n<br />\nJuly Networking After Five<br />\n<br />\nJoin us for our monthly Networking After Five event<br />\n<br />\nLight refreshments will be served.
LOCATION:Landerhaven 6111 Landerhaven Drive Mayfield Heights\, OH 44124
UID:e.368.1279
SEQUENCE:3
DTSTAMP:20260419T225631Z
URL:https://public.beachwood.org/events/details/july-networking-after-five-07-01-2015-1279
END:VEVENT

END:VCALENDAR
