BEGIN:VCALENDAR
VERSION:2.0
PRODID:-//ChamberMaster//Event Calendar 2.0//EN
METHOD:PUBLISH
X-PUBLISHED-TTL:P3D
REFRESH-INTERVAL:P3D
CALSCALE:GREGORIAN
BEGIN:VEVENT
DTSTART:20150722T153000Z
DTEND:20150722T171000Z
X-MICROSOFT-CDO-ALLDAYEVENT:FALSE
SUMMARY:July Chamber Luncheon 2015
DESCRIPTION:Registration is now closed\, no walk-ins permitted.\n\n\n\nChamber July Luncheon \n\nRound- Robin Networking Event  \n\n\n\nJoin us for a luncheon full of networking at each table.  Bring plenty of business cards to make new contacts and potential clients.\n\n\n\nJuly Luncheon Sponsor:  Peoples Bank
X-ALT-DESC;FMTTYPE=text/html:<span style="color:#000080\;"><span style="font-size: 14px\;"><span style="font-family: arial\;"><strong>Registration is now closed\, no walk-ins permitted.</strong></span></span></span><br />\n<br />\nChamber July Luncheon&nbsp\;<br />\nRound- Robin Networking Event &nbsp\;<br />\n<br />\nJoin us for a luncheon full of networking at each table.&nbsp\; Bring plenty of business cards to make new contacts and potential clients.<br />\n<br />\nJuly Luncheon Sponsor:&nbsp\; Peoples Bank
LOCATION:Canterbury Golf Club 22000 S. Woodland Rd Cleveland\, OH 44122
UID:e.368.1288
SEQUENCE:3
DTSTAMP:20260419T225815Z
URL:https://public.beachwood.org/events/details/july-chamber-luncheon-2015-07-22-2015-1288
END:VEVENT

END:VCALENDAR
