BEGIN:VCALENDAR
VERSION:2.0
PRODID:-//ChamberMaster//Event Calendar 2.0//EN
METHOD:PUBLISH
X-PUBLISHED-TTL:P3D
REFRESH-INTERVAL:P3D
CALSCALE:GREGORIAN
BEGIN:VEVENT
DTSTART:20190703T153000Z
DTEND:20190703T170000Z
X-MICROSOFT-CDO-ALLDAYEVENT:FALSE
SUMMARY:July 2019 Western Reserve Safety Council Meeting
DESCRIPTION:Topic:  Ohio's New Medical Marijuana Law: How is it working now?\n\nSpeaker: Dyann M cDowell\, Training Marbles\n \n\nOver 125 people attended this program a year ago\, just before Ohio's Medical Marijuana law went into effect.  Hear from Dyann what you can do as an employer to protect yourself and your employees.  An event not to be missed!\n\nClick here to Register
X-ALT-DESC;FMTTYPE=text/html:<h1><strong>Topic:&nbsp\; Ohio&#39\;s New Medical Marijuana Law: How is it working now?</strong></h1>\n\n<h2><strong><span style="font-family: arial\; font-size: 14px\;"><span style="font-size: 16px\;">Speaker: Dyann M cDowell\, Training Marbles</span></span></strong></h2>\n&nbsp\;\n\n<p style="background-color: transparent\; box-sizing: border-box\; color: rgb(0\, 0\, 0)\; font-family: &amp\;quot\;Titillium Web&amp\;quot\;\,sans-serif\; font-size: 18px\; font-style: normal\; font-variant: normal\; font-weight: 500\; letter-spacing: normal\; line-height: 27px\; margin-bottom: 0px\; margin-left: 0px\; margin-right: 0px\; margin-top: 0px\; orphans: 2\; padding-bottom: 0px\; padding-left: 0px\; padding-right: 0px\; padding-top: 0px\; text-align: justify\; text-decoration: none\; text-indent: 0px\; text-transform: none\; -webkit-text-stroke-width: 0px\; white-space: normal\; word-spacing: 0px\;"><span style="font-size:14px\;"><span style="box-sizing: border-box\;">Over 125 people attended this program a year ago\, just before Ohio&#39\;s Medical Marijuana law went into effect.&nbsp\; Hear from Dyann what you can do as an employer to protect yourself and your employees.</span>&nbsp\; <span style="box-sizing: border-box\;">An event not to be missed!</span></span></p>\n\n<p><a href="http://web.westernreservesc.org/events"><em><strong><span style="font-size:14px\;">Click here to Register</span></strong></em></a></p>\n
LOCATION:Mustard Seed Market & Cafe (second floor) 6025 Kruse Drive Solon\, OH 44139
UID:e.368.8156
SEQUENCE:3
DTSTAMP:20260420T112550Z
URL:https://public.beachwood.org/events/details/july-2019-western-reserve-safety-council-meeting-8156
END:VEVENT

END:VCALENDAR
