BEGIN:VCALENDAR
VERSION:2.0
PRODID:-//ChamberMaster//Event Calendar 2.0//EN
METHOD:PUBLISH
X-PUBLISHED-TTL:P3D
REFRESH-INTERVAL:P3D
CALSCALE:GREGORIAN
BEGIN:VEVENT
DTSTART:20190710T210000Z
DTEND:20190710T223000Z
X-MICROSOFT-CDO-ALLDAYEVENT:FALSE
SUMMARY:July 2019 Networking After Five
DESCRIPTION:ONLINE REGISTRATION CLOSED / WALK-INS WELCOME!\n\n\n\nJoin the Chamber this month for Networking After Five at the Hyde Park.. \n\n\n\nEnjoy\n\n	Light Refreshments\n	Networking tips\n	Drawing for a gift certificate\n\nRemember to bring your business cards!
X-ALT-DESC;FMTTYPE=text/html:<span style="color:#DAA520\;">&nbsp\;<strong>ONLINE REGISTRATION CLOSED / WALK-INS WELCOME!</strong></span><br />\n<br />\nJoin the Chamber this month for Networking After Five at the Hyde Park..&nbsp\;<br />\n<br />\nEnjoy\n<ul>\n	<li>Light Refreshments</li>\n	<li>Networking tips</li>\n	<li>Drawing for a gift certificate</li>\n</ul>\nRemember to bring your business cards!
LOCATION:Hyde Park Prime Steakhouse 26300 Chagrin Blvd. Beachwood
UID:e.368.8101
SEQUENCE:3
DTSTAMP:20260420T112357Z
URL:https://public.beachwood.org/events/details/july-2019-networking-after-five-8101
END:VEVENT

END:VCALENDAR
