BEGIN:VCALENDAR
VERSION:2.0
PRODID:-//ChamberMaster//Event Calendar 2.0//EN
METHOD:PUBLISH
X-PUBLISHED-TTL:P3D
REFRESH-INTERVAL:P3D
CALSCALE:GREGORIAN
BEGIN:VEVENT
DTSTART:20190711T154500Z
DTEND:20190711T170000Z
X-MICROSOFT-CDO-ALLDAYEVENT:FALSE
SUMMARY:July 2019 Beachwood Women's Connection
DESCRIPTION:FASHION\, FOOD AND FUN\n\n\n\nJoin us at Center Court (lower level outside Victoria's Secret) at Beachwood Place for a unique retail experience featuring retail trends\, makeup tips and food demos.\n\n\n\nLight sampling for Registered Guests. \n\n\n\nRegistration is required for this FREE event so that we can prepare enough (....surprises!).\n\n \n\n\n\nBeachwood Women's Connection is a Chamber-sponsored networking event providing lively\, educational\, and interactive gatherings in a variety of Beachwood locations.
X-ALT-DESC;FMTTYPE=text/html:<span style="font-size:18px\;">FASHION\, FOOD AND FUN</span><br />\n<br />\n<span style="font-size:14px\;">Join us at Center Court (lower level outside Victoria&#39\;s Secret) at Beachwood Place for a unique retail experience featuring retail trends\, makeup tips and food demos.<br />\n<br />\nLight sampling for Registered Guests.&nbsp\;<br />\n<br />\nRegistration is required for this FREE event so that we can prepare enough (....surprises!).<br />\n&nbsp\;<br />\n<br />\n<em>Beachwood Women&#39\;s Connection is a Chamber-sponsored networking event providing lively\, educational\, and interactive gatherings in a variety of Beachwood locations.</em></span><br />\n&nbsp\;
LOCATION:Beachwood Place 26300 Cedar Road Center Court (lower level by Victoria's Secret) Beachwood 44122
UID:e.368.8118
SEQUENCE:3
DTSTAMP:20260420T112504Z
URL:https://public.beachwood.org/events/details/july-2019-beachwood-women-s-connection-8118
END:VEVENT

END:VCALENDAR
