BEGIN:VCALENDAR
VERSION:2.0
PRODID:-//ChamberMaster//Event Calendar 2.0//EN
METHOD:PUBLISH
X-PUBLISHED-TTL:P3D
REFRESH-INTERVAL:P3D
CALSCALE:GREGORIAN
BEGIN:VEVENT
DTSTART:20180711T210000Z
DTEND:20180711T223000Z
X-MICROSOFT-CDO-ALLDAYEVENT:FALSE
SUMMARY:July 2018 Networking After Five
DESCRIPTION:Beachwood Chamber Networking After Five: Wednesday\, July 11\, 2018\n\nStart the month by joining us for our July Networking After Five event at Suburban Temple - Kol Ami\n\nEnjoy ...\n\n\n	Light refreshments will be served.\n	Tour Suburban's great meeting space and gardens\n	Learn new networking tips and tricks\n	 Drop your business card for a chance to win a gift certificate\n	You won't want to miss your chance to win cash.  Every Beachwood Chamber member company name that has attended a networking after five event for the past year is placed in a hopper.  If your company name is pulled from the hopper and you are in attendance\, you win cash. If you were not there\, the current cash goes back into the pot and $25 more is added the next month!   It continues each month until there is a winner\, then we start again at $25.
X-ALT-DESC;FMTTYPE=text/html:<p><span style="color:#0033cc\;"><strong>Beachwood Chamber Networking After Five: Wednesday\, July 11\, 2018</strong></span></p>\n\n<p>Start the month by joining us for our July Networking After Five event<strong> </strong>at<strong> <a href="https://www.suburbantemple.org/">Suburban Temple - Kol Ami</a></strong><br />\nEnjoy ...</p>\n\n<ul>\n	<li>Light refreshments will be served.</li>\n	<li>Tour Suburban&#39\;s great meeting space and gardens</li>\n	<li>Learn new networking tips and tricks</li>\n	<li>&nbsp\;Drop your business card for a chance to win a gift certificate</li>\n	<li>You won&#39\;t want to miss your chance to win<em> cash</em>.&nbsp\; Every Beachwood Chamber member company name that has attended a networking after five event for the past year is placed in a hopper.&nbsp\; If your company name is pulled from the hopper and you are in attendance\, you win cash. If you were not there\, the current cash goes back into the pot and $25 more is added the next month! &nbsp\; It continues each month until there is a winner\, then we start again at $25.&nbsp\;</li>\n</ul>\n
LOCATION:Suburban Temple - Kol Ami 22401 Chagrin Blvd Beachwood\, OH 44122
UID:e.368.6449
SEQUENCE:3
DTSTAMP:20260420T185103Z
URL:https://public.beachwood.org/events/details/july-2018-networking-after-five-6449
END:VEVENT

END:VCALENDAR
