BEGIN:VCALENDAR
VERSION:2.0
PRODID:-//ChamberMaster//Event Calendar 2.0//EN
METHOD:PUBLISH
X-PUBLISHED-TTL:P3D
REFRESH-INTERVAL:P3D
CALSCALE:GREGORIAN
BEGIN:VEVENT
DTSTART:20191215T123000Z
DTEND:20191215T160000Z
X-MICROSOFT-CDO-ALLDAYEVENT:FALSE
SUMMARY:Jingle Bell Run - Cleveland
DESCRIPTION:5K Run or Walk with a 1-mile Family Fun Run option\n\n\n\nSunday\, December 15\, 2019\n\nFestivities begin at 7:30 a.m.\n\n5K Run/Walk and 1-mile Family Fun Run step off at 8:30 a.m.\n\n\n\nLegacy Village\n\n25333 Cedar Road\, Lyndhurst\, OH 44124\n\n\n\njbr.org/Cleveland\n\n\n\nThe Arthritis Foundation's original Jingle Bell Run is the longest-standing festive race around\, helping champion arthritis research and bringing people from all walks of life together to say Yes to furthering a great cause. Get jolly for a reason and be there with bells on for the one in four Americans with arthritis! Bring your friends\, family and co-workers to this fun-filled day of holiday cheer! The event draws more than 1\,000 participants and features a 5K Run or Walk with a 1-mile Family Fun Run option for both competitive and non-competitive runners and walkers. This annual holiday-themed event also includes a VIP Area for top fundraising participants and teams\, a health and wellness expo\, awards\, and more! The race begins at Legacy Village and continues through the surrounding neighborhood of Lyndhurst\, Ohio.\n\n\n\n100% of your registration fee and fundraising efforts go directly to the Arthritis Foundation and this great cause. Event proceeds fund critical arthritis research and resources benefiting the 50 million Americans\, including 300\,000 children\, with arthritis\, the nation's #1 cause of disability.\n\n\n\nhttps://vimeo.com/355350281
X-ALT-DESC;FMTTYPE=text/html:<strong>5K Run or Walk with a 1-mile Family Fun Run option<br />\n<br />\nSunday\, December 15\, 2019</strong><br />\nFestivities begin at 7:30 a.m.<br />\n5K Run/Walk and 1-mile Family Fun Run step off at 8:30 a.m.<br />\n<br />\n<strong>Legacy Village</strong><br />\n25333 Cedar Road\, Lyndhurst\, OH 44124<br />\n<br />\n<strong>jbr.org/Cleveland</strong><br />\n<br />\nThe Arthritis Foundation&rsquo\;s original Jingle Bell Run is the longest-standing festive race around\, helping champion arthritis research and bringing people from all walks of life together to say Yes to furthering a great cause. Get jolly for a reason and be there with bells on for the one in four Americans with arthritis! Bring your friends\, family and co-workers to this fun-filled day of holiday cheer! The event draws more than 1\,000 participants and features a 5K Run or Walk with a 1-mile Family Fun Run option<strong> </strong>for both competitive and non-competitive runners and walkers. This annual holiday-themed event also includes a VIP Area for top fundraising participants and teams\, a health and wellness expo\, awards\, and more! The race begins at Legacy Village and continues through the surrounding neighborhood of Lyndhurst\, Ohio.<br />\n<br />\n100% of your registration fee and fundraising efforts go directly to the Arthritis Foundation and this great cause. Event proceeds fund critical arthritis research and resources benefiting the 50 million Americans\, including 300\,000 children\, with arthritis\, the nation&rsquo\;s #1 cause of disability.<br />\n<br />\nhttps://vimeo.com/355350281
LOCATION:Legacy Village 25333 Cedar Road\, Lyndhurst\, OH 44124
UID:e.368.8183
SEQUENCE:3
DTSTAMP:20260420T174028Z
URL:https://public.beachwood.org/events/details/jingle-bell-run-cleveland-8183
END:VEVENT

END:VCALENDAR
