BEGIN:VCALENDAR
VERSION:2.0
PRODID:-//ChamberMaster//Event Calendar 2.0//EN
METHOD:PUBLISH
X-PUBLISHED-TTL:P3D
REFRESH-INTERVAL:P3D
CALSCALE:GREGORIAN
BEGIN:VEVENT
DTSTART:20151014T220000Z
DTEND:20151015T000000Z
X-MICROSOFT-CDO-ALLDAYEVENT:FALSE
SUMMARY:JFSA Signature Event: Inspiring Minds. Caring Hearts.
DESCRIPTION:Jewish Family Service Association of Cleveland presents "Inspiring Minds. Caring Hearts." honoring Anne C. Schwartz Leadership Award Recipient Dr. David Rosenberg and featuring keynote speaker Dr. Jeffrey Brenner\, Executive Director\, Camden Colaition of Healthcare Providers.
X-ALT-DESC;FMTTYPE=text/html:Jewish Family Service Association of Cleveland presents &quot\;Inspiring Minds. Caring Hearts.&quot\; honoring Anne C. Schwartz Leadership Award Recipient Dr. David Rosenberg and featuring keynote speaker Dr. Jeffrey Brenner\, Executive Director\, Camden Colaition of Healthcare Providers.<br />\n&nbsp\;
LOCATION:Anshe Chesed Fairmount Temple
UID:e.368.3724
SEQUENCE:3
DTSTAMP:20260420T031411Z
URL:https://public.beachwood.org/events/details/jfsa-signature-event-inspiring-minds-caring-hearts-10-14-2015-3724
END:VEVENT

END:VCALENDAR
