BEGIN:VCALENDAR
VERSION:2.0
PRODID:-//ChamberMaster//Event Calendar 2.0//EN
METHOD:PUBLISH
X-PUBLISHED-TTL:P3D
REFRESH-INTERVAL:P3D
CALSCALE:GREGORIAN
BEGIN:VEVENT
DTSTART:20150118T190000Z
DTEND:20150118T203000Z
X-MICROSOFT-CDO-ALLDAYEVENT:FALSE
SUMMARY:Jazz for All Ages
DESCRIPTION:The Biasella Trio takes you on a musical journey through America's Jazz history from Swing to Latin to Blues and Ballads
X-ALT-DESC;FMTTYPE=text/html:The Biasella Trio takes you on a musical journey through America&rsquo\;s Jazz history from Swing to Latin to Blues and Ballads
LOCATION:Beachwood Branch of Cuyahoga County Public Library 25501 Shaker Blvd Beachwood OH 44122
UID:e.368.1269
SEQUENCE:3
DTSTAMP:20260419T202440Z
URL:https://public.beachwood.org/events/details/jazz-for-all-ages-01-18-2015-1269
END:VEVENT

END:VCALENDAR
