BEGIN:VCALENDAR
VERSION:2.0
PRODID:-//ChamberMaster//Event Calendar 2.0//EN
METHOD:PUBLISH
X-PUBLISHED-TTL:P3D
REFRESH-INTERVAL:P3D
CALSCALE:GREGORIAN
BEGIN:VEVENT
DTSTART:20160106T220000Z
DTEND:20160106T233000Z
X-MICROSOFT-CDO-ALLDAYEVENT:FALSE
SUMMARY:January Networking After Five 2016
DESCRIPTION:REGISTRATION IS NOW CLOSED\, WALK -INS ARE WELCOME!\n\n\n\nJanuary Networking After Five\n\n\n\nJoin us for our monthly Networking After Five event\n\n\n\nLight refreshments will be served.\n\n\n\n*Learn why Old Carolina BBQ changed to Crooked River\n\n\n\n* Learn new networking tips and tricks\n\n\n\n* Drop your business card for a chance to win a gift certificate\n\n\n\n* You won't want to miss your chance to win $25 cash.  Every Beachwood Chamber member company name has been placed in a hopper.  If your company name is pulled from the hopper and you are in attendance\, you win $25 cash. If you were not there\, the $25 goes back into the pot and $25 more added the next month!   It continues each month until there is a winner\, then we start again at $25.
X-ALT-DESC;FMTTYPE=text/html:<strong><span style="color:#4B0082\;">REGISTRATION IS NOW CLOSED\, WALK -INS ARE WELCOME!</span></strong><br />\n<br />\nJanuary Networking After Five<br />\n<br />\nJoin us for our monthly Networking After Five event<br />\n<br />\nLight refreshments will be served.<br />\n<br />\n*Learn why Old Carolina BBQ changed to Crooked River<br />\n<br />\n* Learn new networking tips and tricks<br />\n<br />\n* Drop your business card for a chance to win a gift certificate<br />\n<br />\n* You won&#39\;t want to miss your chance to win <em>$25 cash</em>.&nbsp\; Every Beachwood Chamber member company name has been placed in a hopper.&nbsp\; If your company name is pulled from the hopper and you are in attendance\, you win $25 cash. If you were not there\, the $25 goes back into the pot and $25 more added the next month! &nbsp\; It continues each month until there is a winner\, then we start again at $25.&nbsp\;
LOCATION:Crooked River BBQ & Beer 5100 Mayfield Road Lyndhurst\, OH 44124
UID:e.368.4807
SEQUENCE:3
DTSTAMP:20260420T073645Z
URL:https://public.beachwood.org/events/details/january-networking-after-five-2016-01-06-2016-4807
END:VEVENT

END:VCALENDAR
