BEGIN:VCALENDAR
VERSION:2.0
PRODID:-//ChamberMaster//Event Calendar 2.0//EN
METHOD:PUBLISH
X-PUBLISHED-TTL:P3D
REFRESH-INTERVAL:P3D
CALSCALE:GREGORIAN
BEGIN:VEVENT
DTSTART:20150107T220000Z
DTEND:20150107T233000Z
X-MICROSOFT-CDO-ALLDAYEVENT:FALSE
SUMMARY:January Networking After Five
DESCRIPTION:***** REGISTRATION IS CLOSED*****\n\nWALK-IN'S WELCOME WITH BUSINESS CARDS\n\n\n\nJanuary Networking After Five\n\nJoin us for our monthly Networking After Five event\, at Old Carolina Barbeque Company   Light refreshments will be served during our informal networking event.
X-ALT-DESC;FMTTYPE=text/html:<strong><span style="color:#000080\;">***** REGISTRATION IS CLOSED*****<br />\nWALK-IN&#39\;S WELCOME WITH BUSINESS CARDS</span></strong><br />\n<br />\nJanuary Networking After Five<br />\nJoin us for our monthly Networking After Five event\, at Old Carolina Barbeque Company&nbsp\;&nbsp\; Light refreshments will be served during our informal networking event.<br />\n&nbsp\;
LOCATION:Old Carolina Barbecue Company 5100 Mayfield Road Lyndhurst\, OH 44124
UID:e.368.1272
SEQUENCE:3
DTSTAMP:20260419T213042Z
URL:https://public.beachwood.org/events/details/january-networking-after-five-01-07-2015-1272
END:VEVENT

END:VCALENDAR
