BEGIN:VCALENDAR
VERSION:2.0
PRODID:-//ChamberMaster//Event Calendar 2.0//EN
METHOD:PUBLISH
X-PUBLISHED-TTL:P3D
REFRESH-INTERVAL:P3D
CALSCALE:GREGORIAN
BEGIN:VEVENT
DTSTART:20190109T163000Z
DTEND:20190109T180000Z
X-MICROSOFT-CDO-ALLDAYEVENT:FALSE
SUMMARY:January 2019 Western Reserve Safety Council Meeting
DESCRIPTION:Topic:  Employee Engagement & Behavior-Based Safety - Best Practices - A Panel Discussion - Part 2\n\nSpeaker: WRSC Panel Discussion\n\nCLICK HERE TO REGISTER
X-ALT-DESC;FMTTYPE=text/html:<h1><strong>Topic:&nbsp\; Employee Engagement &amp\; Behavior-Based Safety - Best Practices - A Panel Discussion - Part 2</strong></h1>\n\n<h2><strong><span style="font-family: arial\; font-size: 14px\;"><span style="font-size: 16px\;">Speaker: WRSC Panel Discussion</span></span></strong></h2>\n\n<p><a href="http://westernreservesc.org/wrsc/"><span style="font-size:18px\;"><span style="color:#FF0000\;"><strong>CLICK HERE TO REGISTER</strong></span></span></a></p>\n
LOCATION:Mustard Seed Market & Cafe (second floor) 6025 Kruse Drive Solon\, OH 44139
UID:e.368.6954
SEQUENCE:3
DTSTAMP:20260420T112555Z
URL:https://public.beachwood.org/events/details/january-2019-western-reserve-safety-council-meeting-6954
END:VEVENT

END:VCALENDAR
