BEGIN:VCALENDAR
VERSION:2.0
PRODID:-//ChamberMaster//Event Calendar 2.0//EN
METHOD:PUBLISH
X-PUBLISHED-TTL:P3D
REFRESH-INTERVAL:P3D
CALSCALE:GREGORIAN
BEGIN:VEVENT
DTSTART:20190108T220000Z
DTEND:20190108T233000Z
X-MICROSOFT-CDO-ALLDAYEVENT:FALSE
SUMMARY:January 2019 Networking After Five
DESCRIPTION:Networking After Five\n\n Tuesday\, January 8th- 5:00- 6:30 pm\n\nBuyRite\n\n23715 Mercantile  Road\n\nJoin us for networking and refreshments as we kick off 2019!
X-ALT-DESC;FMTTYPE=text/html:<!-- x-tinymce/html -->\n<h4 style="text-align: center\;">Networking After Five</h4>\n\n<p style="text-align: center\;">&nbsp\;Tuesday\,&nbsp\;January 8th- 5:00- 6:30 pm</p>\n\n<p style="text-align: center\;">BuyRite<br />\n23715 Mercantile&nbsp\; Road<br />\nJoin us for networking and refreshments as we kick off 2019!<br />\n<br />\n&nbsp\;</p>\n
LOCATION:
UID:e.368.8003
SEQUENCE:3
DTSTAMP:20260420T112357Z
URL:https://public.beachwood.org/events/details/january-2019-networking-after-five-8003
END:VEVENT

END:VCALENDAR
