BEGIN:VCALENDAR
VERSION:2.0
PRODID:-//ChamberMaster//Event Calendar 2.0//EN
METHOD:PUBLISH
X-PUBLISHED-TTL:P3D
REFRESH-INTERVAL:P3D
CALSCALE:GREGORIAN
BEGIN:VEVENT
DTSTART:20090726T140000Z
DTEND:20090726T170000Z
X-MICROSOFT-CDO-ALLDAYEVENT:FALSE
SUMMARY:Industrial Espionage
DESCRIPTION:The Association for Intelligence Officers/Northern Ohio Chapter will hold a special Sunday brunch onJuly 26th\, beginning at 10:00 AMat the Maltz Museum for Jewish Heritage with a Presentation by Eugene Poteat\, AFIO  National President 10:00 AM - Brunch catered by Appetite and informal talk by Gene Poteat11:00 AM - Tour "The Enemey With: Terror in America - 1776 to Today (traveling exhibit of the International Spy Museum)12:00 Noon - Presentation by Eugene Poteat1:00-5:00 PM - Visit Maltz Museum's resident exhibits Cost: $20\, payable in advance by check (marked: BRUNCH)Mail to:Dianne Mueller31300 Solon RoadSuite 6Solon\, OH 44139 For questions\, please call her at 440-424-4071 or email her at dmueller@msglpa.com For more information and Mr. Poteat's bio\, please click here.
X-ALT-DESC;FMTTYPE=text/html:<div>The Association for Intelligence Officers/Northern Ohio Chapter</div><div>&nbsp\;</div><div>will hold a special Sunday brunch on</div><div>July 26th\, beginning at 10:00 AM</div><div>at the Maltz Museum for Jewish Heritage</div><div>&nbsp\;</div><div>with a Presentation by&nbsp\;Eugene Poteat\, AFIO &nbsp\;National President</div><div>&nbsp\;</div><div>10:00 AM - Brunch catered by Appetite and informal talk by Gene Poteat</div><div>11:00 AM - Tour &quot\;The Enemey With: Terror in America - 1776 to Today (traveling exhibit of the International Spy Museum)</div><div>12:00 Noon - Presentation by Eugene Poteat</div><div>1:00-5:00 PM - Visit Maltz Museum's resident exhibits</div><div>&nbsp\;</div><div>Cost: $20\, payable in advance by check (marked:&nbsp\;BRUNCH)</div><div>Mail to:</div><div>Dianne Mueller</div><div>31300 Solon Road</div><div>Suite 6</div><div>Solon\, OH&nbsp\;44139</div><div>&nbsp\;</div><div>For questions\, please call her at 440-424-4071 or email her at <a href="mailto:dmueller@msglpa.com">dmueller@msglpa.com</a></div><div>&nbsp\;</div><div>For more information and Mr. Poteat's bio\, please <a href="http://secure.chambermaster.com/FCKeditor/UserFiles/chambers/368/File/AFIO%207-26-09-Goldstein.pdf">click here</a>.</div>
LOCATION:Maltz Museum2929 Richmond RoadBeachwood
UID:e.368.235
SEQUENCE:3
DTSTAMP:20260423T170137Z
URL:https://public.beachwood.org/events/details/industrial-espionage-07-26-2009-235
END:VEVENT

END:VCALENDAR
