BEGIN:VCALENDAR
VERSION:2.0
PRODID:-//ChamberMaster//Event Calendar 2.0//EN
METHOD:PUBLISH
X-PUBLISHED-TTL:P3D
REFRESH-INTERVAL:P3D
CALSCALE:GREGORIAN
BEGIN:VEVENT
DTSTART:20090716T220000Z
DTEND:20090716T230000Z
X-MICROSOFT-CDO-ALLDAYEVENT:FALSE
SUMMARY:Indiana Wesleyan-Degree Program
DESCRIPTION:You are cordially invited to an information session sponsored by Indiana Wesleyan University on Thursday\, July 16th\, 6-7 PM to learn more about degree programs available through the University. Learn about ...Classes available both on site and online.How to get a degree fast\, even if working full-time. Associates\, Bachelors\, and Masters Degrees.financial aid eligibility.Transferring credits.Not sure about going back to school?  Bring your questions and concerns. Refreshments will be served. Please RSVP to: Bart Ciofani at 216-525-6205 or email bart.ciofani@indwes.edu.
X-ALT-DESC;FMTTYPE=text/html:<div>You are cordially invited to an information session sponsored by Indiana Wesleyan University on Thursday\, July 16th\, 6-7 PM to learn more about degree programs available through the University.</div><div>&nbsp\;</div><div>Learn about ...</div><ul><li>Classes available both on site and online.</li><li>How to get a degree fast\, even if working full-time.&nbsp\;</li><li>Associates\, Bachelors\, and Masters Degrees.</li><li>financial aid eligibility.</li><li>Transferring credits.</li></ul><div>Not sure about&nbsp\;going back to school?&nbsp\; Bring your questions and concerns.</div><div>&nbsp\;</div><div>Refreshments will be served.</div><div>&nbsp\;</div><div>Please RSVP to: Bart Ciofani at 216-525-6205 or email <a href="mailto:bart.ciofani@indwes.edu">bart.ciofani@indwes.edu</a>.</div><div>&nbsp\;</div><div>&nbsp\;</div>
LOCATION:Indiana Wesleyan UniversityMonarch Center5885 Landerbrook DriveMayfield Heights
UID:e.368.233
SEQUENCE:3
DTSTAMP:20260423T160026Z
URL:https://public.beachwood.org/events/details/indiana-wesleyan-degree-program-07-16-2009-233
END:VEVENT

END:VCALENDAR
