BEGIN:VCALENDAR
VERSION:2.0
PRODID:-//ChamberMaster//Event Calendar 2.0//EN
METHOD:PUBLISH
X-PUBLISHED-TTL:P3D
REFRESH-INTERVAL:P3D
CALSCALE:GREGORIAN
BEGIN:VEVENT
DTSTART:20090622T140000Z
DTEND:20090705T190000Z
X-MICROSOFT-CDO-ALLDAYEVENT:FALSE
SUMMARY:In The Garden
DESCRIPTION:IN THE GARDEN Thru July 5thBeachwood Community CenterCorner of Richmond Rd. & Fairmount Blvd. On Monday\, June 22nd\, the ONYX Deskset 17 magnifier will be on site enabling low vision individuals to enjoy and experience IN THE GARDEN. If the ONYX is needed\, please RSVP to 216-292-1911. View the works ofMaureen Lanza -- Acrylic & OilCarol Medhurst -- OilThe exhibit is free and open to the public.Monday-Friday: 9 AM - 4 PMSaturday: 10 AM - 3 PMSunday: 10 AM - 1 PM For more information\, please call 216-292-1911
X-ALT-DESC;FMTTYPE=text/html:<div style="text-align: center"><strong><span style="font-size: small">IN THE GARDEN</span></strong></div><div style="text-align: center">&nbsp\;</div><div style="text-align: center">Thru July 5th</div><div style="text-align: center">Beachwood Community Center</div><div style="text-align: center">Corner of Richmond Rd. &amp\; Fairmount Blvd.</div><div style="text-align: center">&nbsp\;</div><div style="text-align: left">On Monday\, June 22nd\, the ONYX Deskset 17 magnifier will be on site enabling low vision individuals to enjoy and experience IN THE GARDEN. If the ONYX is needed\, please RSVP to 216-292-1911.</div><div style="text-align: left">&nbsp\;</div><div style="text-align: left">View the works of</div><ul><li>Maureen Lanza -- Acrylic &amp\; Oil</li><li>Carol Medhurst -- Oil</li></ul><div style="text-align: left">The exhibit is free and open to the public.</div><div style="text-align: left">Monday-Friday: 9 AM - 4 PM</div><div style="text-align: left">Saturday: 10 AM - 3 PM</div><div style="text-align: left">Sunday: 10 AM - 1 PM</div><div style="text-align: left">&nbsp\;</div><div style="text-align: left">For more information\, please call 216-292-1911</div><div style="text-align: left">&nbsp\;</div><div>&nbsp\;</div>
LOCATION:Beachwood Community CenterCorner of Richmond Rd & Fairmount Blvd.
UID:e.368.225
SEQUENCE:3
DTSTAMP:20260423T160437Z
URL:https://public.beachwood.org/events/details/in-the-garden-06-22-2009-225
END:VEVENT

END:VCALENDAR
