BEGIN:VCALENDAR
VERSION:2.0
PRODID:-//ChamberMaster//Event Calendar 2.0//EN
METHOD:PUBLISH
X-PUBLISHED-TTL:P3D
REFRESH-INTERVAL:P3D
CALSCALE:GREGORIAN
BEGIN:VEVENT
DTSTART:20140727T180000Z
DTEND:20140727T193000Z
X-MICROSOFT-CDO-ALLDAYEVENT:FALSE
SUMMARY:I Sing the Body Electric: Portrait of Walt Whitman
DESCRIPTION:Wordstage\, a chamber music theater\, celebrates the life of Walt Whitman through words and music. Letters\, diaries and revolutionary poems are set to violin music played by Mary Beth Ions while narrators\, Marci Paolucci and Tim Tavcar weave carefully chosen snatches of the poet's writings into a compelling biography.
X-ALT-DESC;FMTTYPE=text/html:Wordstage\, a chamber music theater\, celebrates the life of Walt Whitman through words and music. Letters\, diaries and revolutionary poems are set to violin music played by Mary Beth Ions while narrators\, Marci Paolucci and Tim Tavcar weave carefully chosen snatches of the poet&rsquo\;s writings into a compelling biography.
LOCATION:Beachwood Branch of Cuyahoga County Public Library 25501 Shaker Blvd Beachwood OH 44122
UID:e.368.1140
SEQUENCE:3
DTSTAMP:20260420T044739Z
URL:https://public.beachwood.org/events/details/i-sing-the-body-electric-portrait-of-walt-whitman-07-27-2014-1140
END:VEVENT

END:VCALENDAR
