BEGIN:VCALENDAR
VERSION:2.0
PRODID:-//ChamberMaster//Event Calendar 2.0//EN
METHOD:PUBLISH
X-PUBLISHED-TTL:P3D
REFRESH-INTERVAL:P3D
CALSCALE:GREGORIAN
BEGIN:VEVENT
DTSTART:20090211T140000Z
DTEND:20090211T150000Z
X-MICROSOFT-CDO-ALLDAYEVENT:FALSE
SUMMARY:How to Transform Your Business-Webinar
DESCRIPTION:Headwinds Lts. and Inner Circle Advisors present an 8 part webinar series on how to TRANSFORM your business. The webinar will be every other Wednesday from February 11th to May 20th.  Each session will run 9:00 am-10:00 am EST. The cost for the 8 part series is $495.00 Session size is limited.  Call for reservations. To view the dates and the topics to be discussed in the webinars\, click here.
X-ALT-DESC;FMTTYPE=text/html:<div>Headwinds Lts. and Inner Circle Advisors present an 8 part webinar series on how to TRANSFORM your business.</div><div>&nbsp\;</div><div>The webinar will be every other Wednesday from February 11th to May 20th.&nbsp\; Each session will run 9:00 am-10:00 am EST.</div><div>&nbsp\;</div><div>The cost for the 8 part series is $495.00</div><div>&nbsp\;</div><div>Session size is limited.&nbsp\; Call for reservations.</div><div>&nbsp\;</div><div>To view the dates and the topics to be discussed in the webinars\, <a href="https://secure.chambermaster.com/FCKeditor/UserFiles/chambers/368/File/Headwinds-Jan09.pdf">click here</a>.</div>
LOCATION:Webinar
UID:e.368.146
SEQUENCE:3
DTSTAMP:20260423T212806Z
URL:https://public.beachwood.org/events/details/how-to-transform-your-business-webinar-02-11-2009-146
END:VEVENT

END:VCALENDAR
