BEGIN:VCALENDAR
VERSION:2.0
PRODID:-//ChamberMaster//Event Calendar 2.0//EN
METHOD:PUBLISH
X-PUBLISHED-TTL:P3D
REFRESH-INTERVAL:P3D
CALSCALE:GREGORIAN
BEGIN:VEVENT
DTSTART:20180920T153000Z
DTEND:20180920T173000Z
X-MICROSOFT-CDO-ALLDAYEVENT:FALSE
SUMMARY:How to Stay out of Court: Lunch and Learn with CMBA and The Gertsburg Law Firm
DESCRIPTION:Everyone knows how painful lawsuits are.  They're time-consuming\, energy-consuming\, distracting and expensive.  Here's a dirty little secret that every lawyer knows:  most business lawsuits and investigations\, or exposure from them for damages\, fines and expenses\, are entirely preventable if a company follows some simple pre-emptive steps.  The lunch and learn will begin with a presentation by Alex Gertsburg\, CEO of the Gertsburg Law Firm and CoverMySix\, who will pass along some proven strategies for saving companies boat-loads of money both inside and outside the courts.  Afterward\, CMBA Director Becky McMahon will moderate a panel discussion composed of in-house and outside attorneys about legal minefields that businesses routinely fall into and need to avoid in their operations.\n\n \n\nPresenters:\n\n\n	Alex Gertsburg\, CEO\, The Gertsburg Law Firm\n	Lori Kosakowski\, The Sherwin-Williams Corporation\n	Chris Thorman\, Thorman Petrov Group Co.\, LPA\n	Becky Ruppert McMahon\, CEO\, CMBA\, Moderator\n\n\n \n\nSchedule:\n\n\n	11:30 a.m.   12:00 p.m.  Registration & Lunch\n	12:00   1:15 p.m.  Presentation\n	1:15   1:30 p.m.  Networking\n\n\n \n\nPurchase tickets and reserve your seat at www.eventbrite.com/e/how-to-stay-out-of-court-tickets-48421073735\n\n$20 per person includes lunch\n\nParking available in the One Cleveland Center garage\, Galleria parking garage and numerous other garages and surface lots in the East 9th and St. Clair area.\n\nPlease direct any questions to CMBA at (216) 696-3525 or by email at CLE@clemetrobar.org
X-ALT-DESC;FMTTYPE=text/html:<p><span style="font-family:arial\,sans-serif"><span style="font-size:10pt">Everyone knows how painful lawsuits are.&nbsp\; They&rsquo\;re time-consuming\, energy-consuming\, distracting and expensive.&nbsp\; Here&rsquo\;s a dirty little secret that every lawyer knows:&nbsp\; most business lawsuits and investigations\, or exposure from them for damages\, fines&nbsp\;and&nbsp\;expenses\, are entirely preventable if a company follows some simple pre-emptive steps.&nbsp\; The lunch and learn will begin with a presentation by&nbsp\;</span></span><span style="font-family:helvetica\,sans-serif"><span style="font-size:9.0pt"><a href="https://www.gertsburglaw.com/attorneys/alex-gertsburg/"><span style="font-family:arial\,sans-serif"><span style="font-size:10pt">Alex Gertsburg</span></span></a></span></span><span style="font-family:arial\,sans-serif"><span style="font-size:10pt">\, CEO of the&nbsp\;</span></span><span style="font-family:helvetica\,sans-serif"><span style="font-size:9.0pt"><a href="http://www.gertsburglaw.com/"><span style="font-family:arial\,sans-serif"><span style="font-size:10pt">Gertsburg Law Firm</span></span></a></span></span><span style="font-family:arial\,sans-serif"><span style="font-size:10pt">&nbsp\;and&nbsp\;</span></span><span style="font-family:helvetica\,sans-serif"><span style="font-size:9.0pt"><a href="http://covermysix.com/"><span style="font-family:arial\,sans-serif"><span style="font-size:10pt">CoverMySix</span></span></a></span></span><span style="font-family:arial\,sans-serif"><span style="font-size:10pt">\, who will pass along some proven strategies for saving companies boat-loads of money both inside and outside the courts. &nbsp\;Afterward\,&nbsp\;</span></span><span style="font-family:helvetica\,sans-serif"><span style="font-size:9.0pt"><a href="http://www.clemetrobar.org/"><span style="font-family:arial\,sans-serif"><span style="font-size:10pt">CMBA</span></span></a></span></span><span style="font-family:arial\,sans-serif"><span style="font-size:10pt">&nbsp\;Director&nbsp\;</span></span><span style="font-family:helvetica\,sans-serif"><span style="font-size:9.0pt"><a href="https://www.linkedin.com/in/rebeccaruppertmcmahon/"><span style="font-family:arial\,sans-serif"><span style="font-size:10pt">Becky McMahon</span></span></a></span></span><span style="font-family:arial\,sans-serif"><span style="font-size:10pt">&nbsp\;will moderate a panel discussion composed of in-house and outside attorneys about legal minefields that businesses routinely fall into and need to avoid in their operations.</span></span></p>\n\n<h3>&nbsp\;</h3>\n\n<h3>Presenters:</h3>\n\n<ul>\n	<li><a href="https://www.gertsburglaw.com/attorneys/alex-gertsburg/" style="color: rgb(7\, 118\, 187)\; box-sizing: border-box\; text-decoration-line: none\;">Alex Gertsburg</a>\, CEO\, The Gertsburg Law Firm</li>\n	<li><a href="https://www.linkedin.com/in/lori-kosakowski-86a2b510/" style="color: rgb(7\, 118\, 187)\; box-sizing: border-box\; text-decoration-line: none\;">Lori Kosakowski</a>\, The Sherwin-Williams Corporation</li>\n	<li><a href="http://www.tpgfirm.com/index.php/attorneys/" style="color: rgb(7\, 118\, 187)\; box-sizing: border-box\; text-decoration-line: none\;">Chris Thorman</a>\, Thorman Petrov Group Co.\, LPA</li>\n	<li><a href="https://www.linkedin.com/in/rebeccaruppertmcmahon/" style="color: rgb(7\, 118\, 187)\; box-sizing: border-box\; text-decoration-line: none\;">Becky Ruppert McMahon</a>\, CEO\, CMBA\, Moderator</li>\n</ul>\n\n<h3>&nbsp\;</h3>\n\n<h3>Schedule:</h3>\n\n<ul>\n	<li>11:30 a.m. &ndash\; 12:00 p.m.&nbsp\; Registration &amp\; Lunch</li>\n	<li>12:00 &ndash\; 1:15 p.m.&nbsp\; Presentation</li>\n	<li>1:15 &ndash\; 1:30 p.m.&nbsp\; Networking</li>\n</ul>\n\n<p>&nbsp\;</p>\n\n<h3 style="text-align:center">Purchase tickets and reserve your&nbsp\;seat at&nbsp\;<a href="http://www.eventbrite.com/e/how-to-stay-out-of-court-tickets-48421073735www.eventbrite.com/e/how-to-stay-out-of-court-tickets-48421073735" style="color: rgb(7\, 118\, 187)\; box-sizing: border-box\; text-decoration-line: none\;">www.eventbrite.com/e/how-to-stay-out-of-court-tickets-48421073735</a></h3>\n\n<p>$20 per person includes lunch</p>\n\n<p>Parking available in the One Cleveland Center garage\, Galleria parking garage and numerous other garages and surface lots in the East 9th and St. Clair area.</p>\n\n<p>Please direct any questions to CMBA at (216) 696-3525 or by email at&nbsp\;<a href="https://mail.google.com/mail/?view=cm&amp\;fs=1&amp\;tf=1&amp\;to=CLE@clemetrobar.org" rel="noopener noreferrer nofollow" style="color: rgb(7\, 118\, 187)\; box-sizing: border-box\; text-decoration-line: none\;">CLE@clemetrobar.org</a></p>\n
LOCATION:Cleveland Metropolitan Bar Association Conference Center 1375 East Ninth Street Cleveland\, OH 44114
UID:e.368.7977
SEQUENCE:3
DTSTAMP:20260420T162030Z
URL:https://public.beachwood.org/events/details/how-to-stay-out-of-court-lunch-and-learn-with-cmba-and-the-gertsburg-law-firm-7977
END:VEVENT

END:VCALENDAR
