BEGIN:VCALENDAR
VERSION:2.0
PRODID:-//ChamberMaster//Event Calendar 2.0//EN
METHOD:PUBLISH
X-PUBLISHED-TTL:P3D
REFRESH-INTERVAL:P3D
CALSCALE:GREGORIAN
BEGIN:VEVENT
DTSTART:20090414T190000Z
DTEND:20090414T210000Z
X-MICROSOFT-CDO-ALLDAYEVENT:FALSE
SUMMARY:How to Recession Proof Your Business
DESCRIPTION:Please join Representative Marcia L. Fudge as he hosts a Small Business Seminar on ... How to Recession Proof Your Business on Tuesday\, April 14th\, 3-5 PM(registration begins at 2:30 PM) at Cuyahoga Community College-Eastern CampusPerforming Arts Center - Liberal Arts Building4250 Richmond RoadHighland Hills\, OH(use parking lots B1 & B2) Get information onHow the Recovery & Reinvestment Act will affect the bottom lineTax implications of the Recovery ActChanges to SBA 7(a)\, 8(a)\, and 504 programsSelling to the Federal GovernmentHow to access capital/refine our business planHear from other businesses that have secured loans There will be a presentation by the Small Business Administration (SBA) followed by break out sessions conducted by the IRS\, local banks\, and business leaders. For more information or to RSVP\, contact Sharon Cole (sharon.cole@mail.house.gov)or Stephen Caviness (stephen.caviness@mail.house.gov)
X-ALT-DESC;FMTTYPE=text/html:<div>Please join Representative Marcia L. Fudge as he hosts a Small Business Seminar on ...</div><div>&nbsp\;</div><div>How to Recession Proof Your Business</div><div>&nbsp\;</div><div>on Tuesday\, April 14th\, 3-5 PM</div><div>(registration begins at 2:30 PM)</div><div>&nbsp\;</div><div>at Cuyahoga Community College-Eastern Campus</div><div>Performing Arts Center - Liberal Arts Building</div><div>4250 Richmond Road</div><div>Highland Hills\, OH</div><div>(use parking lots B1 &amp\; B2)</div><div>&nbsp\;</div><div>Get information on</div><div>How the Recovery &amp\; Reinvestment Act&nbsp\;will affect the bottom line</div><div>Tax implications of the Recovery Act</div><div>Changes to SBA 7(a)\, 8(a)\, and 504 programs</div><div>Selling to the Federal Government</div><div>How to access capital/refine our business plan</div><div>Hear from other businesses that have secured loans</div><div>&nbsp\;</div><div>There will be a presentation by the Small Business Administration (SBA) followed by break out sessions conducted by the IRS\, local banks\, and business leaders.</div><div>&nbsp\;</div><div>For more information or to RSVP\, contact Sharon Cole (<a href="mailto:sharon.cole@mail.house.gov">sharon.cole@mail.house.gov</a>)</div><div>or Stephen Caviness (<a href="mailto:stephen.caviness@mail.house.gov">stephen.caviness@mail.house.gov</a>)</div><div>&nbsp\;</div>
LOCATION:at Cuyahoga Community College-Eastern CampusPerforming Arts Center - Liberal Arts Building4250 Richmond RoadHighland Hills\, OH(use parking lots B1 & B2)
UID:e.368.186
SEQUENCE:3
DTSTAMP:20260423T192659Z
URL:https://public.beachwood.org/events/details/how-to-recession-proof-your-business-04-14-2009-186
END:VEVENT

END:VCALENDAR
