BEGIN:VCALENDAR
VERSION:2.0
PRODID:-//ChamberMaster//Event Calendar 2.0//EN
METHOD:PUBLISH
X-PUBLISHED-TTL:P3D
REFRESH-INTERVAL:P3D
CALSCALE:GREGORIAN
BEGIN:VEVENT
DTSTART:20080910T003000Z
DTEND:20080910T014500Z
X-MICROSOFT-CDO-ALLDAYEVENT:FALSE
SUMMARY:HOME OFFICE LINK-SEPTEMBER
DESCRIPTION:The September Home Office Link (HOL) will focus on ...Strategic Alliances can be good\n ... and good for you!From glamorous Astaire and Rogers\, to historic Columbus and Queen Isabella\, to today's Abercrombie & Fitch\, Strategic Alliances have been valuable assets throughout the ages. For home-based businesses\, these alliances\, whether intentional or serendipitous\, are a vital part of our operations. The more we understand the true nature of a Strategic Alliance   what it is\, how to find one\, and how to nurture it   the more dramatic the bearing on the success of our businesses. Our presenters are Linda Bloom and Larry Mattes. MA Marketing and Communications is a full service marketing and communications firm. Bloom Public Relations/Marketing\, Inc. (BPRM) is a full-service communication management firm that provides advice and strategies in media\, community\, and reputation management. Clients receive attentive\, individualized service. Both Larry and Linda have been home based business owners for many years\, and work together in strategic alliances on many projects. HOL meets the 2nd Tuesday of the month at the Chamber office in the large conference room.Cost is $5\, payable at the door by check or small bills.Coffee and tea provided.
X-ALT-DESC;FMTTYPE=text/html:<p><font color="#000080">The September Home Office Link (HOL) will focus on ...</font></p><p align="center"><font color="#000080" size="4">Strategic Alliances can be good<br />&nbsp\;... and good for you!</font></p><div><span style="font-size: 10pt\; font-family: &rsquo\;Arial&rsquo\;\,&rsquo\;sans-serif&rsquo\;"><font color="#000080">From glamorous Astaire and Rogers\, to historic Columbus and Queen Isabella\, to today&rsquo\;s Abercrombie &amp\; Fitch\, Strategic Alliances have been valuable assets throughout the ages. For home-based businesses\, these alliances\, whether intentional or serendipitous\, are a vital part of our operations. The more we understand the true nature of a Strategic Alliance &ndash\; what it is\, how to find one\, and how to nurture it &ndash\; the more dramatic the bearing on the success of our businesses.</font></span></div><div><font color="#000080" size="2">&nbsp\;</font></div><div><span style="font-size: 10pt\; font-family: &rsquo\;Arial&rsquo\;\,&rsquo\;sans-serif&rsquo\;"><font color="#000080">Our presenters are Linda Bloom and Larry Mattes. MA Marketing and Communications is a full service marketing and communications firm. Bloom Public Relations/Marketing\, Inc. (BPRM) is a full-service communication management firm that provides advice and strategies in media\, community\, and reputation management. Clients receive attentive\, individualized service. Both Larry and Linda have been home based business owners&nbsp\;for many years\, and work together in&nbsp\;strategic alliances on many projects.</font></span></div><div>&nbsp\;</div><div><span style="font-size: 10pt\; font-family: &rsquo\;Arial&rsquo\;\,&rsquo\;sans-serif&rsquo\;"><font color="#000080">HOL meets the 2nd Tuesday of the month at the Chamber office in the large conference room.</font></span></div><div><span style="font-size: 10pt\; font-family: &rsquo\;Arial&rsquo\;\,&rsquo\;sans-serif&rsquo\;"><font color="#000080">Cost is $5\, payable at the door by check or small bills.</font></span></div><div><span style="font-size: 10pt\; font-family: &rsquo\;Arial&rsquo\;\,&rsquo\;sans-serif&rsquo\;"><font color="#000080">Coffee and tea provided.</font></span></div><div>&nbsp\;</div>
LOCATION:Beachwood Chamber of CommerceThree Commerce Park Square23230 Chagrin Blvd\, Suite 900(corner Chagrin & Green)
UID:e.368.77
SEQUENCE:3
DTSTAMP:20260424T032033Z
URL:https://public.beachwood.org/events/details/home-office-link-september-09-09-2008-77
END:VEVENT

END:VCALENDAR
