BEGIN:VCALENDAR
VERSION:2.0
PRODID:-//ChamberMaster//Event Calendar 2.0//EN
METHOD:PUBLISH
X-PUBLISHED-TTL:P3D
REFRESH-INTERVAL:P3D
CALSCALE:GREGORIAN
BEGIN:VEVENT
DTSTART:20081015T003000Z
DTEND:20081015T004500Z
X-MICROSOFT-CDO-ALLDAYEVENT:FALSE
SUMMARY:HOME OFFICE LINK-OCTOBER
DESCRIPTION:Face-to-Face Networking: A Lost Art?Attend the Chamber's Home Office Link (HOL) for home-based and one-person businesses for a round-table discussion revisiting those great personal skills that can help you communicate effectively.HOL will meet on Tuesday\, October 14th\, 8:30-9:45 AM at the Chamber offices in the large conference room.The cost is $5\, payable at the door by check or in small bills.
X-ALT-DESC;FMTTYPE=text/html:<p>Face-to-Face Networking: A Lost Art?</p><p>Attend the Chamber's Home Office Link (HOL) for home-based and one-person businesses for a round-table discussion revisiting those great personal skills that can help you communicate effectively.</p><p>HOL will meet on Tuesday\, October 14th\, 8:30-9:45 AM at the Chamber offices in the large conference room.</p><p>The cost is $5\, payable at the door by check or in small bills.</p><p>&nbsp\;</p>
LOCATION:Beachwood Chamber of Commerce Three Commerce Park Square 23230 Chagrin Blvd\, #900 Tel: 216-831-0003
UID:e.368.94
SEQUENCE:3
DTSTAMP:20260424T032013Z
URL:https://public.beachwood.org/events/details/home-office-link-october-10-14-2008-94
END:VEVENT

END:VCALENDAR
