BEGIN:VCALENDAR
VERSION:2.0
PRODID:-//ChamberMaster//Event Calendar 2.0//EN
METHOD:PUBLISH
X-PUBLISHED-TTL:P3D
REFRESH-INTERVAL:P3D
CALSCALE:GREGORIAN
BEGIN:VEVENT
DTSTART:20081111T133000Z
DTEND:20081112T024500Z
X-MICROSOFT-CDO-ALLDAYEVENT:FALSE
SUMMARY:HOME OFFICE LINK-NOVEMBER
DESCRIPTION:Capitalizing on Your StrengthsA roundtable discussion focusing on how we can take advantage of our natural talents to help elevate our level of success.The Home Office Link (HOL) roundtable discussions are awalways great\, so please plan to be join us on Tuesday\, November 11th\, 8:30-9:45 AM\, at the Beachwood Chamber office.Cost is $5\, payable at the door in small bills or by check. Coffee and tea included.RSVPs to goddessws@aol.com are appreciated but not required.
X-ALT-DESC;FMTTYPE=text/html:<p align="center"><font size="3"><strong>Capitalizing on Your Strengths</strong></font></p><p>A roundtable discussion focusing on how we can take advantage of our natural talents to help elevate our level of success.</p><p>The&nbsp\;Home Office Link (HOL)&nbsp\;roundtable discussions are awalways great\, so please plan to be join us on Tuesday\, November 11th\, 8:30-9:45 AM\, at the Beachwood Chamber office.</p><p>Cost is $5\, payable at the door in small bills or by check. Coffee and tea included.</p><p>RSVPs to <a href="mailto:goddessws@aol.com">goddessws@aol.com</a> are appreciated but not required.</p>
LOCATION:Beachwood Chamber of CommerceThree Commerce Park Square23230 Chagrin Blvd\, Suite 900Tel: 216-831-0003
UID:e.368.110
SEQUENCE:3
DTSTAMP:20260424T010713Z
URL:https://public.beachwood.org/events/details/home-office-link-november-11-11-2008-110
END:VEVENT

END:VCALENDAR
