BEGIN:VCALENDAR
VERSION:2.0
PRODID:-//ChamberMaster//Event Calendar 2.0//EN
METHOD:PUBLISH
X-PUBLISHED-TTL:P3D
REFRESH-INTERVAL:P3D
CALSCALE:GREGORIAN
BEGIN:VEVENT
DTSTART:20090311T003000Z
DTEND:20090311T014500Z
X-MICROSOFT-CDO-ALLDAYEVENT:FALSE
SUMMARY:HOME OFFICE LINK - MARCH
DESCRIPTION:We look forward to seeing you at the Home Office link on Tuesday\, March 10th\, 8:30-9:45 AM at the Chamber offices for ... Organizing 4 U's SIMPLE Organizing Steps    Professional Organizers Muffy Kaesberg and JoEllen Salkin will tell you a SIMPLE way for organizing and maintaining your home based office.  Their unique\, easy to follow steps will help you to save time\, save money and ultimately reduce stress. Organizing 4 U was founded in 2003 to assist individuals who are overwhelmed by clutter in their homes and offices.  Muffy and JoEllen provide hands-on organizing and transferring of skills to make life simple.  This year they published Where Can I Find It? \, a book designed assist individuals in identifying their various important documents\, and a tool to help others in the event of an emergency.  The Organizing 4 U team has provided expert advice for various local and national media.  www.organizing4u.com RSVPs are appreciated but not required to goddessws@aol.com. Cost is $5\, payable at the door in small bills or by check.  Coffee and tea are included.
X-ALT-DESC;FMTTYPE=text/html:<div align="left"><font color="#000080" size="3">We look forward to seeing you at&nbsp\;the Home Office link on Tuesday\, March 10th\, 8:30-9:45 AM at the Chamber offices for ...</font></div><div align="left">&nbsp\;</div><div align="center"><font size="4"><strong><font color="#000080"><span style="font-weight: bold\; font-size: 14pt\; color: navy">Organizing 4 U&rsquo\;s </span></font></strong></font></div><div align="center"><font size="4"><strong><font color="#000080"><span style="font-weight: bold\; font-size: 14pt\; color: navy"><em><span style="font-style: italic">SIMPLE</span></em> Organizing Steps<sup><font size="3">&copy\;</font></sup></span></font></strong></font><sup><font size="3"> </font></sup></div><div>&nbsp\;</div><div>&nbsp\;</div><div><font color="#000080" size="2"><span style="font-size: 11pt\; color: navy">Professional Organizers Muffy Kaesberg and JoEllen Salkin will tell you a <strong><em><span style="font-weight: bold\; font-style: italic">SIMPLE</span></em></strong> way for organizing and maintaining your home based office.&nbsp\; Their unique\, easy to follow steps will help you to save time\, save money and ultimately reduce stress.</span></font></div><div><font size="2">&nbsp\;</font></div><div><font size="2"><strong><font color="#000080"><span style="font-weight: bold\; font-size: 11pt\; color: navy">Organizing 4 U</span></font></strong><font color="#000080"><span style="font-size: 11pt\; color: navy"> was founded in 2003 to assist individuals who are overwhelmed by clutter in their homes and offices.&nbsp\; Muffy and JoEllen provide hands-on organizing and transferring of skills to <em><span style="font-style: italic">make life simple</span></em>.&nbsp\; This year they published <strong><em><span style="font-weight: bold\; font-style: italic">Where Can I Find It?&copy\;</span></em>\, </strong>a book designed assist individuals in identifying their various important documents</span></font><font color="#000080"><span style="font-size: 11pt\; color: navy">\, and a tool to help others in the event of an emergency.&nbsp\; The <strong><span style="font-weight: bold">Organizing 4 U</span></strong> team has provided expert advice for </span></font><font color="#000080"><span style="font-size: 11pt\; color: navy">various local and national media.&nbsp\; <a title="http://www.organizing4u.com" href="http://www.organizing4u.com/">www.organizing4u.com</a></span></font></font></div><div>&nbsp\;</div><div><font size="2"><font color="#000080"><span style="font-size: 11pt\; color: navy">RSVPs are appreciated but not required to goddessws@aol.com.</span></font></font></div><div>&nbsp\;</div><div><font size="2"><font color="#000080"><span style="font-size: 11pt\; color: navy">Cost is $5\, payable at the door in small bills or by check.&nbsp\; Coffee and tea are included.</span></font></font></div>
LOCATION:Beachwood Chamber of Commerce Three Commerce Park Square 23230 Chagrin Blvd.\, Suite 900 (216) 831-0003
UID:e.368.158
SEQUENCE:3
DTSTAMP:20260423T202251Z
URL:https://public.beachwood.org/events/details/home-office-link-march-03-10-2009-158
END:VEVENT

END:VCALENDAR
