BEGIN:VCALENDAR
VERSION:2.0
PRODID:-//ChamberMaster//Event Calendar 2.0//EN
METHOD:PUBLISH
X-PUBLISHED-TTL:P3D
REFRESH-INTERVAL:P3D
CALSCALE:GREGORIAN
BEGIN:VEVENT
DTSTART:20080708T123000Z
DTEND:20080708T134500Z
X-MICROSOFT-CDO-ALLDAYEVENT:FALSE
SUMMARY:HOME OFFICE LINK (JULY)
DESCRIPTION:Packaging\, Promotion and Perception:  The 3 "P's" of Niche MarketingHow to get your target market to know and remember you.Presented by Rick Iacoboni\, a regular at the Home Office Link!Rick\, a marketer by trade\, spent over 20 years creating marketing campaigns for both large and small businesses.  In 2006\, he became his own client by mounting an aggressive awareness campaign that would transition a hobby into a growing business.  As a result\, Rick has performed at more than 400 engagements over the past three years.We hope to see you at this event.  The energy and participation of attendees each month keeps the group exciting and motivated. The Home Office Link meets the 2nd Tuesday of each month.Cost is $5\, payable at the door in small bills or by check. Coffee and tea included.RSVP to goddessws@aol.com (RSVPs appreciated but not required).
X-ALT-DESC;FMTTYPE=text/html:<p align="center"><strong><font size="3"><font color="#0000ff">Packaging\, Promotion and Perception:&nbsp\; The 3 &quot\;P&rsquo\;s&quot\; of Niche Marketing</font></font></strong></p><p align="center"><strong><font size="3"><font style="background-color: #ffffff" color="#0000ff">How to get your target market to know and remember you.</font></font></strong></p><p align="center"><font size="3"><font style="background-color: #ffffff" color="#0000ff">Presented by Rick Iacoboni\, a regular at the Home Office Link!</font></font></p><p align="left"><font style="background-color: #ffffff" color="#0000ff" size="2">Rick\, a marketer by trade\, spent over 20 years creating marketing campaigns for both large and small businesses.&nbsp\; In 2006\, he became his own client by mounting an aggressive awareness campaign that would transition a hobby into a growing business.&nbsp\; As a result\, Rick has performed at more than 400&nbsp\;engagements over the past three years.</font></p><p align="left"><font color="#0000ff" size="2">We hope to see you at this event.&nbsp\; The energy and participation of attendees each month keeps the group exciting and motivated.&nbsp\;The Home Office Link meets the 2nd Tuesday of each month.</font></p><p align="left"><font color="#0000ff" size="2">Cost is $5\, payable at the door in small bills or by check. Coffee and tea included.</font></p><p align="left"><font color="#0000ff"><font size="2">RSVP to </font><a href="mailto:goddessws@aol.com"><font size="2">goddessws@aol.com</font></a><font size="2"> (RSVPs appreciated but not required).</font></font></p><p align="left">&nbsp\;</p>
LOCATION:Beachwood Chamber of CommerceThree Commerce Park Square23230 Chagrin Blvd\, #900Beachwood\, OH 44122216-831-0003
UID:e.368.56
SEQUENCE:3
DTSTAMP:20260424T060712Z
URL:https://public.beachwood.org/events/details/home-office-link-july-07-08-2008-56
END:VEVENT

END:VCALENDAR
