BEGIN:VCALENDAR
VERSION:2.0
PRODID:-//ChamberMaster//Event Calendar 2.0//EN
METHOD:PUBLISH
X-PUBLISHED-TTL:P3D
REFRESH-INTERVAL:P3D
CALSCALE:GREGORIAN
BEGIN:VEVENT
DTSTART:20090113T133000Z
DTEND:20090113T144500Z
X-MICROSOFT-CDO-ALLDAYEVENT:FALSE
SUMMARY:HOME OFFICE LINK-JAN 2009
DESCRIPTION:To open Home Office Link's 2009 season\, our Tuesday\, January 13th program will discuss Finding Success in Today's Economy The program will be presented by Janet M. Goodman\, Ph.D. and will be an interactive session to help small business owners to refocus their thinking\, energies\, and skills in order to best survive in today's economy. Strategies will be discussed and each participant will walk away witha framework to apply to their own professional success. Janet Goodman is a business and life coach as well as a psychologist in private practice. She has consulted for businesses large and small\, including Progressive Insurance\, Olympic Steel\, and small law offices and businesses in the health care industry. Her goal is to help small business owners work with their strengths to find success. HOME OFFICE LINK (HOL) meets the 2nd Tuesday of each month at the offices of the Beachwood Chamber of Commerce. The program is for home-based and one-person businesses and enables networking among peers.  Round table discussions and guest speakers focus on topics of interest to this group. Cost is $5\, payable at the door by check or in small bills.  Non-Chamber members are invited to participate in the HOL.
X-ALT-DESC;FMTTYPE=text/html:<div align="center"><font color="#333399" size="2">To open Home Office Link's 2009 season\, our Tuesday\, January 13th program will discuss</font></div><div align="center">&nbsp\;</div><div align="center"><font color="#333399" size="4"><strong>Finding Success in Today's Economy</strong></font></div><div>&nbsp\;</div><div><font color="#333399">The program will be presented by <strong><em>Janet M. Goodman\, Ph.D</em></strong>. and will be an interactive session to help small business owners to refocus their thinking\, energies\, and skills in order to best survive in today's economy. Strategies will be discussed and each participant will walk away witha framework to apply to their own professional success.</font></div><div>&nbsp\;</div><div><font color="#333399"><strong><em>Janet Goodman</em></strong> is a business and life coach as well as a psychologist in private practice. She has consulted for businesses large and small\, including Progressive Insurance\, Olympic Steel\, and small law offices and businesses in the health care industry. Her goal is to help small business owners work with their strengths to find success.</font></div><div>&nbsp\;</div><div><font color="#333399">HOME OFFICE LINK (HOL) meets the 2nd Tuesday of each month at the offices of the Beachwood Chamber of Commerce. The program is for home-based and one-person businesses and enables networking among peers.&nbsp\; Round table discussions and guest speakers focus on topics of interest to this group.</font></div><div><font color="#333399">&nbsp\;</font></div><div><font color="#333399">Cost is $5\, payable at the door by check or in small bills.&nbsp\; Non-Chamber members are invited to participate in the HOL.</font></div><div>&nbsp\;</div>
LOCATION:Beachwood Chamber of Commerce Three Commerce Park Square 23230 Chagrin Blvd\, Suite 900 (216) 831-0003
UID:e.368.131
SEQUENCE:3
DTSTAMP:20260423T223705Z
URL:https://public.beachwood.org/events/details/home-office-link-jan-2009-01-13-2009-131
END:VEVENT

END:VCALENDAR
