BEGIN:VCALENDAR
VERSION:2.0
PRODID:-//ChamberMaster//Event Calendar 2.0//EN
METHOD:PUBLISH
X-PUBLISHED-TTL:P3D
REFRESH-INTERVAL:P3D
CALSCALE:GREGORIAN
BEGIN:VEVENT
DTSTART;VALUE=DATE:20080610
DTEND;VALUE=DATE:20080611
TRANSP:TRANSPARENT
X-MICROSOFT-CDO-ALLDAYEVENT:TRUE
SUMMARY:Home Office LInk (HOL)
DESCRIPTION:Home Office Best Practices What is your secret to keeping a positive and upbeat attitude?How do you balance 'working on' and working in' your business?What is your 'must have' technology? Join us for a lively roundtable discussion facilitated by Wendy Schwarz expanding on these topics\, as well as others you would like to address\, regarding your home based business.  Our next Home Office Link is scheduled for Tuesday\, June 10\, 8:30-9:45 AM at the Beachwood Chamber offices\, 3 Commerce Park\, 23230 Chagrin Blvd\, Suite 900. Cost is $5\, payable at the door in small bills or checks. Coffee and tea are included. RSVP's to goddessws@aol.com  are appreciated but not required
X-ALT-DESC;FMTTYPE=text/html:<p align="center"><font size="4"><font color="#333399"><strong>Home Office Best Practices</strong></font>&nbsp\;</font></p><div><font color="#333399" size="2">What is your secret to keeping a positive and upbeat attitude?</font></div><div><font color="#333399" size="2">How do you balance 'working on' and working in' your business?</font></div><div><font color="#333399" size="2">What is your 'must have' technology?</font></div><div><font color="#333399" size="2">&nbsp\;</font></div><div><font color="#333399" size="2">Join us for a lively roundtable discussion facilitated by Wendy Schwarz expanding on these topics\, as well as others you would like to address\, regarding your home based business. </font></div><div><font color="#333399" size="2">&nbsp\;</font></div><div><font color="#333399" size="2">Our next <strong>Home Office Link</strong> is scheduled for <strong>Tuesday\, June 10\, 8:30-9:45 AM</strong> at the Beachwood Chamber offices\, 3 Commerce Park\, 23230 Chagrin Blvd\, Suite 900.</font></div><div><font color="#333399" size="2">&nbsp\;</font></div><div><div><font color="#333399" size="2">Cost is $5\, payable at the door in small bills or checks. Coffee and tea are included. RSVP's to </font><a title="mailto:goddessws@aol.com are" href="mailto:goddessws@aol.com%20are"><font color="#333399" size="2">goddessws@aol.com </font></a><font color="#333399" size="2">&nbsp\;are appreciated but not required</font></div></div><div><font color="#333399" size="2">&nbsp\;</font></div>
LOCATION:Beachwood Chamber of CommerceThree Commerce Park Square23230 Chagrin Blvd\, Suite 900Beachwood\, OH 44122216-831-0003
UID:e.368.33
SEQUENCE:3
DTSTAMP:20260424T084607Z
URL:https://public.beachwood.org/events/details/home-office-link-hol-06-10-2008-33
END:VEVENT

END:VCALENDAR
